Workbook
Name \0: #REF!
Name \0: #REF!
Name ______________JM1: #REF!
Name ______________JM1: #REF!
Name ______________JM1: #REF!
Name ______________JM2: #REF!
Name ______________JM2: #REF!
Name ______________JM2: #REF!
Name ______________JM3: #REF!
Name ______________JM3: #REF!
Name ______________JM3: #REF!
Name ______________JM4: #REF!
Name ______________JM4: #REF!
Name ______________JM4: #REF!
Name ______________JM5: #REF!
Name ______________JM5: #REF!
Name ______________JM5: #REF!
Name ______________JM6: #REF!
Name ______________JM6: #REF!
Name ______________JM6: #REF!
Name ______________PM1: #REF!
Name ______________PM1: #REF!
Name ______________PM1: #REF!
Name ______________PM2: #REF!
Name ______________PM2: #REF!
Name ______________PM2: #REF!
Name ______________PM3: #REF!
Name ______________PM3: #REF!
Name ______________PM3: #REF!
Name ______________PM4: #REF!
Name ______________PM4: #REF!
Name ______________PM4: #REF!
Name ______________PM5: #REF!
Name ______________PM5: #REF!
Name ______________PM5: #REF!
Name ______________PM6: #REF!
Name ______________PM6: #REF!
Name ______________PM6: #REF!
Name _____________JM1: #REF!
Name _____________JM1: #REF!
Name _____________JM1: #REF!
Name _____________JM2: #REF!
Name _____________JM2: #REF!
Name _____________JM2: #REF!
Name _____________JM3: #REF!
Name _____________JM3: #REF!
Name _____________JM3: #REF!
Name _____________JM4: #REF!
Name _____________JM4: #REF!
Name _____________JM4: #REF!
Name _____________JM5: #REF!
Name _____________JM5: #REF!
Name _____________JM5: #REF!
Name _____________JM6: #REF!
Name _____________JM6: #REF!
Name _____________JM6: #REF!
Name _____________JM7: #REF!
Name _____________JM7: #REF!
Name _____________PM1: #REF!
Name _____________PM1: #REF!

Sheet Resumo
B2: FJ ARQUITETURA / URCA-RJ / PLANILHA ORÇAMENTÁRIA
C4: LITOTECA URCA/RJ | D4: IO: jun/26
C5: ORÇAMENTO SINTÉTICO GLOBAL
C6: REFERÊNCIA: BANCOS DE DADOS INFORMADOS NO RESUMO
C7: CONTRATAÇÃO POR EMPREITADA POR PREÇO GLOBAL
B8: OBRA: | C8: LITOTECA URCA
B9: LOCAL: | C9: URCA - RIO DE JANEIRO - RJ
B10: ITEM | C10: DESCRIÇÃO | D10: TOTAL
B11: 01 | C11: ADMINISTRAÇÃO, CANTEIRO DE OBRAS E LOGÍSTICA | D11: =_xlfn.XLOOKUP(B11,Planilha!C:C,Planilha!M:M) -> 1701213.4
B12: 01.01 | C12: =_xlfn.XLOOKUP(B12,Planilha!C:C,Planilha!F:F) -> ADMINISTRAÇÃO LOCAL DA OBRA | D12: =_xlfn.XLOOKUP(B12,Planilha!C:C,Planilha!M:M) -> 684453
B13: 01.02 | C13: =_xlfn.XLOOKUP(B13,Planilha!C:C,Planilha!F:F) -> IMPLANTAÇÃO E MANUTENÇÃO DO CANTEIRO DE OBRAS | D13: =_xlfn.XLOOKUP(B13,Planilha!C:C,Planilha!M:M) -> 149661.6
B14: 01.03 | C14: =_xlfn.XLOOKUP(B14,Planilha!C:C,Planilha!F:F) -> MÁQUINAS, EQUIPAMENTOS E VEÍCULOS | D14: =_xlfn.XLOOKUP(B14,Planilha!C:C,Planilha!M:M) -> 67217.27
B15: 01.04 | C15: =_xlfn.XLOOKUP(B15,Planilha!C:C,Planilha!F:F) -> DESPESAS GERAIS E DE CONSUMO | D15: =_xlfn.XLOOKUP(B15,Planilha!C:C,Planilha!M:M) -> 31798.8
B16: 01.05 | C16: =_xlfn.XLOOKUP(B16,Planilha!C:C,Planilha!F:F) -> DEMOLIÇÃO | D16: =_xlfn.XLOOKUP(B16,Planilha!C:C,Planilha!M:M) -> 768082.77
B17: 02 | C17: OBRAS EM GERAL | D17: =_xlfn.XLOOKUP(B17,Planilha!C:C,Planilha!M:M) -> 12217396
B18: 02.01 | C18: =_xlfn.XLOOKUP(B18,Planilha!C:C,Planilha!F:F) -> FUNDAÇÕES E ESTRUTURA | D18: =_xlfn.XLOOKUP(B18,Planilha!C:C,Planilha!M:M) -> 5112970.3
B19: 02.02 | C19: =_xlfn.XLOOKUP(B19,Planilha!C:C,Planilha!F:F) -> ARQUITETURA | D19: =_xlfn.XLOOKUP(B19,Planilha!C:C,Planilha!M:M) -> 5117932.2
B20: 02.03 | C20: =_xlfn.XLOOKUP(B20,Planilha!C:C,Planilha!F:F) -> INSTALAÇÕES ELÉTRICAS, LUMINOTÉCNICA E SPDA | D20: =_xlfn.XLOOKUP(B20,Planilha!C:C,Planilha!M:M) -> 1176389.7
B21: 02.04 | C21: =_xlfn.XLOOKUP(B21,Planilha!C:C,Planilha!F:F) -> INSTALAÇÕES HIDRÁULICA - ÁGUAS PLUVIAIS, ÁGUA FRIA, ESGOTO, INCÊNDIO E GASES | D21: =_xlfn.XLOOKUP(B21,Planilha!C:C,Planilha!M:M) -> 343197.1
B22: 02.05 | C22: =_xlfn.XLOOKUP(B22,Planilha!C:C,Planilha!F:F) -> GASES | D22: =_xlfn.XLOOKUP(B22,Planilha!C:C,Planilha!M:M) -> 57866.18
B23: 02.06 | C23: =_xlfn.XLOOKUP(B23,Planilha!C:C,Planilha!F:F) -> AR CONDICIONADO | D23: =_xlfn.XLOOKUP(B23,Planilha!C:C,Planilha!M:M) -> 377810
B24: 02.07 | C24: =_xlfn.XLOOKUP(B24,Planilha!C:C,Planilha!F:F) -> LIMPEZA FINAL DA OBRA E BOTA-FORA | D24: =_xlfn.XLOOKUP(B24,Planilha!C:C,Planilha!M:M) -> 31230
C25: TOTAL PLANILHA (SEM BDI) | D25: =D11+D17 -> 13918609
B27: =BDI!E30/100 -> 0.2742 | C27: BDI: | D27: =D25*B27 -> 3816482.6
C29: TOTAL GERAL + BDI | D29: =+D25+D27 -> 17735092
C33: SINAPI - 05/2026 - Rio de Janeiro
C34: SBC - 06/2026 - Rio de Janeiro
C35: ORSE - 04/2026 - Sergipe
C36: SEDOP - 03/2026 - Pará
C37: SETOP - 04/2026 - Minas Gerais
C38: IOPES - 04/2026 - Espírito Santo
C39: SIURB - 01/2026 - São Paulo
C40: SUDECAP - 04/2026 - Minas Gerais
C41: CPOS/CDHU - 04/2026 - São Paulo
C42: FDE - 04/2026 - São Paulo
C43: AGETOP CIVIL - 04/2026 - Goiás
C44: EMBASA - 06/2025 - Bahia
... C64: SINAPI - 05/2026 - Rio de Janeiro SBC - 06/2026 - Rio de Janeiro ORSE - 04/2026 - Sergipe SEDOP - 03/2026 - Pará SETOP - 04/2026 - Minas Gerais IOPES - 04/2026 - Espírito Santo SIURB - 01/2026 - São Paulo SUDECAP - 04/2026 - Minas Gerais CPOS/CDHU - 04/2026 - São Paulo FDE - 04/2026 - São Paulo AGETOP CIVIL - 04/2026 - Goiás EMBASA - 06/2025 - Bahia EMOP - 05/2026 - Rio de Janeiro SCO - 06/2026 - Rio de Janeiro

Sheet Planilha
C2: FJ ARQUITETURA / URCA-RJ / PLANILHA ORÇAMENTÁRIA
D4: =+Resumo!C4 -> LITOTECA URCA/RJ | M4: IO: jun/26
D5: =+Resumo!C5 -> ORÇAMENTO SINTÉTICO GLOBAL
D6: =+Resumo!C6 -> REFERÊNCIA: BANCOS DE DADOS INFORMADOS NO RESUMO
D7: =+Resumo!C7 -> CONTRATAÇÃO POR EMPREITADA POR PREÇO GLOBAL
C8: OBRA: | D8: =+Resumo!C8 -> LITOTECA URCA
C9: LOCAL: | D9: =+Resumo!C9 -> URCA - RIO DE JANEIRO - RJ
C10: Item | D10: Código | E10: Fonte | F10: Descritivos | G10: Un. | H10: Quant. | I10: Valores unitários | M10: TOTAL | O10: CRONOGRAMA
I11: Mat. | J11: M.O. | K11: Equip. | L11: Totais
M12: R$
C13: 01 | E13: =UPPER(IF($D13=0,"",IF($A13=4,_xlfn.XLOOKUP($D13,Mercado!$C:$C,Mercado!$E:$E),_xlfn.XLOOKUP($D13,Fontes!$B:$B,Fontes!$C:$C)))) | F13: ADMINISTRAÇÃO, CANTEIRO DE OBRAS E LOGÍSTICA | I13: =IF($A13="M",_xlfn.XLOOKUP($D13,Mercado!$C:$C,Mercado!$I:$I),_xlfn.XLOOKUP($D13,Fontes!$B:$B,Fontes!$J:$J)) -> 0 | J13: =IF($A13="M",_xlfn.XLOOKUP($D13,Mercado!$C:$C,Mercado!$J:$J),_xlfn.XLOOKUP($D13,Fontes!$B:$B,Fontes!$H:$H)) -> 0 | K13: =IF($A13="M",0,_xlfn.XLOOKUP($D13,Fontes!$B:$B,Fontes!$I:$I)) -> 0 | L13: =SUM(I13:K13) -> 0 | M13: =SUBTOTAL(9,M14:M60) -> 1701213.4 | O13: =IF(D13<>0,M13,"")
C14: 01.01 | E14: =UPPER(IF($D14=0,"",IF($A14=4,_xlfn.XLOOKUP($D14,Mercado!$C:$C,Mercado!$E:$E),_xlfn.XLOOKUP($D14,Fontes!$B:$B,Fontes!$C:$C)))) | F14: ADMINISTRAÇÃO LOCAL DA OBRA | I14: =IF($A14="M",_xlfn.XLOOKUP($D14,Mercado!$C:$C,Mercado!$I:$I),_xlfn.XLOOKUP($D14,Fontes!$B:$B,Fontes!$J:$J)) -> 0 | J14: =IF($A14="M",_xlfn.XLOOKUP($D14,Mercado!$C:$C,Mercado!$J:$J),_xlfn.XLOOKUP($D14,Fontes!$B:$B,Fontes!$H:$H)) -> 0 | K14: =IF($A14="M",0,_xlfn.XLOOKUP($D14,Fontes!$B:$B,Fontes!$I:$I)) -> 0 | L14: =SUM(I14:K14) -> 0 | M14: =SUBTOTAL(9,M15:M24) -> 684453 | O14: =IF(D14<>0,M14,"")
C15: 01.01.01 | D15: 93567 | E15: =UPPER(IF($D15=0,"",IF($A15=4,_xlfn.XLOOKUP($D15,Mercado!$C:$C,Mercado!$E:$E),_xlfn.XLOOKUP($D15,Fontes!$B:$B,Fontes!$C:$C)))) -> SINAPI | F15: ENGENHEIRO CIVIL DE OBRA PLENO COM ENCARGOS COMPLEMENTARES | G15: =UPPER(IF($D15=0,"",IF($A15=4,_xlfn.XLOOKUP($D15,Mercado!$C:$C,Mercado!$G:$G),_xlfn.XLOOKUP($D15,Fontes!$B:$B,Fontes!$E:$E)))) -> MES | H15: 8 | I15: =IF($A15="M",_xlfn.XLOOKUP($D15,Mercado!$C:$C,Mercado!$I:$I),_xlfn.XLOOKUP($D15,Fontes!$B:$B,Fontes!$J:$J)) -> 1034.48 | J15: =IF($A15="M",_xlfn.XLOOKUP($D15,Mercado!$C:$C,Mercado!$J:$J),_xlfn.XLOOKUP($D15,Fontes!$B:$B,Fontes!$H:$H)) -> 27549.86 | K15: =IF($A15="M",0,_xlfn.XLOOKUP($D15,Fontes!$B:$B,Fontes!$I:$I)) -> 184.85 | L15: =SUM(I15:K15) -> 28769.19 | M15: =ROUND(H15*L15,2) -> 230153.52 | O15: =IF(D15<>0,M15,"") -> 230153.52
C16: 01.01.02 | D16: 100534 | E16: =UPPER(IF($D16=0,"",IF($A16=4,_xlfn.XLOOKUP($D16,Mercado!$C:$C,Mercado!$E:$E),_xlfn.XLOOKUP($D16,Fontes!$B:$B,Fontes!$C:$C)))) -> SINAPI | F16: TECNICO DE EDIFICACOES COM ENCARGOS COMPLEMENTARES | G16: =UPPER(IF($D16=0,"",IF($A16=4,_xlfn.XLOOKUP($D16,Mercado!$C:$C,Mercado!$G:$G),_xlfn.XLOOKUP($D16,Fontes!$B:$B,Fontes!$E:$E)))) -> MES | H16: 8 | I16: =IF($A16="M",_xlfn.XLOOKUP($D16,Mercado!$C:$C,Mercado!$I:$I),_xlfn.XLOOKUP($D16,Fontes!$B:$B,Fontes!$J:$J)) -> 1323.98 | J16: =IF($A16="M",_xlfn.XLOOKUP($D16,Mercado!$C:$C,Mercado!$J:$J),_xlfn.XLOOKUP($D16,Fontes!$B:$B,Fontes!$H:$H)) -> 3984.31 | K16: =IF($A16="M",0,_xlfn.XLOOKUP($D16,Fontes!$B:$B,Fontes!$I:$I)) -> 156.47 | L16: =SUM(I16:K16) -> 5464.76 | M16: =ROUND(H16*L16,2) -> 43718.08 | O16: =IF(D16<>0,M16,"") -> 43718.08
C17: 01.01.03 | D17: 94295 | E17: =UPPER(IF($D17=0,"",IF($A17=4,_xlfn.XLOOKUP($D17,Mercado!$C:$C,Mercado!$E:$E),_xlfn.XLOOKUP($D17,Fontes!$B:$B,Fontes!$C:$C)))) -> SINAPI | F17: MESTRE DE OBRAS COM ENCARGOS COMPLEMENTARES | G17: =UPPER(IF($D17=0,"",IF($A17=4,_xlfn.XLOOKUP($D17,Mercado!$C:$C,Mercado!$G:$G),_xlfn.XLOOKUP($D17,Fontes!$B:$B,Fontes!$E:$E)))) -> MES | H17: 8 | I17: =IF($A17="M",_xlfn.XLOOKUP($D17,Mercado!$C:$C,Mercado!$I:$I),_xlfn.XLOOKUP($D17,Fontes!$B:$B,Fontes!$J:$J)) -> 1323.98 | J17: =IF($A17="M",_xlfn.XLOOKUP($D17,Mercado!$C:$C,Mercado!$J:$J),_xlfn.XLOOKUP($D17,Fontes!$B:$B,Fontes!$H:$H)) -> 12031.26 | K17: =IF($A17="M",0,_xlfn.XLOOKUP($D17,Fontes!$B:$B,Fontes!$I:$I)) -> 270.05 | L17: =SUM(I17:K17) -> 13625.29 | M17: =ROUND(H17*L17,2) -> 109002.32 | O17: =IF(D17<>0,M17,"") -> 109002.32
C18: 01.01.04 | D18: 100309 | E18: =UPPER(IF($D18=0,"",IF($A18=4,_xlfn.XLOOKUP($D18,Mercado!$C:$C,Mercado!$E:$E),_xlfn.XLOOKUP($D18,Fontes!$B:$B,Fontes!$C:$C)))) -> SINAPI | F18: TÉCNICO EM SEGURANÇA DO TRABALHO COM ENCARGOS COMPLEMENTARES | G18: =UPPER(IF($D18=0,"",IF($A18=4,_xlfn.XLOOKUP($D18,Mercado!$C:$C,Mercado!$G:$G),_xlfn.XLOOKUP($D18,Fontes!$B:$B,Fontes!$E:$E)))) -> H | H18: =8*220 -> 1760 | I18: =IF($A18="M",_xlfn.XLOOKUP($D18,Mercado!$C:$C,Mercado!$I:$I),_xlfn.XLOOKUP($D18,Fontes!$B:$B,Fontes!$J:$J)) -> 7.86 | J18: =IF($A18="M",_xlfn.XLOOKUP($D18,Mercado!$C:$C,Mercado!$J:$J),_xlfn.XLOOKUP($D18,Fontes!$B:$B,Fontes!$H:$H)) -> 48.64 | K18: =IF($A18="M",0,_xlfn.XLOOKUP($D18,Fontes!$B:$B,Fontes!$I:$I)) -> 0.92 | L18: =SUM(I18:K18) -> 57.42 | M18: =ROUND(H18*L18,2) -> 101059.2 | O18: =IF(D18<>0,M18,"") -> 101059.2
C19: 01.01.05 | D19: 05.105.0187-0 | E19: =UPPER(IF($D19=0,"",IF($A19=4,_xlfn.XLOOKUP($D19,Mercado!$C:$C,Mercado!$E:$E),_xlfn.XLOOKUP($D19,Fontes!$B:$B,Fontes!$C:$C)))) -> EMOP | F19: MAO-DE-OBRA DE COMPRADOR,INCLUSIVE ENCARGOS SOCIAIS | G19: =UPPER(IF($D19=0,"",IF($A19=4,_xlfn.XLOOKUP($D19,Mercado!$C:$C,Mercado!$G:$G),_xlfn.XLOOKUP($D19,Fontes!$B:$B,Fontes!$E:$E)))) -> MES | H19: 8 | I19: =IF($A19="M",_xlfn.XLOOKUP($D19,Mercado!$C:$C,Mercado!$I:$I),_xlfn.XLOOKUP($D19,Fontes!$B:$B,Fontes!$J:$J)) -> 0 | J19: =IF($A19="M",_xlfn.XLOOKUP($D19,Mercado!$C:$C,Mercado!$J:$J),_xlfn.XLOOKUP($D19,Fontes!$B:$B,Fontes!$H:$H)) -> 5836.16 | K19: =IF($A19="M",0,_xlfn.XLOOKUP($D19,Fontes!$B:$B,Fontes!$I:$I)) -> 0 | L19: =SUM(I19:K19) -> 5836.16 | M19: =ROUND(H19*L19,2) -> 46689.28 | O19: =IF(D19<>0,M19,"") -> 46689.28
C20: 01.01.06 | D20: 93563 | E20: =UPPER(IF($D20=0,"",IF($A20=4,_xlfn.XLOOKUP($D20,Mercado!$C:$C,Mercado!$E:$E),_xlfn.XLOOKUP($D20,Fontes!$B:$B,Fontes!$C:$C)))) -> SINAPI | F20: ALMOXARIFE COM ENCARGOS COMPLEMENTARES | G20: =UPPER(IF($D20=0,"",IF($A20=4,_xlfn.XLOOKUP($D20,Mercado!$C:$C,Mercado!$G:$G),_xlfn.XLOOKUP($D20,Fontes!$B:$B,Fontes!$E:$E)))) -> MES | H20: 8 | I20: =IF($A20="M",_xlfn.XLOOKUP($D20,Mercado!$C:$C,Mercado!$I:$I),_xlfn.XLOOKUP($D20,Fontes!$B:$B,Fontes!$J:$J)) -> 1323.98 | J20: =IF($A20="M",_xlfn.XLOOKUP($D20,Mercado!$C:$C,Mercado!$J:$J),_xlfn.XLOOKUP($D20,Fontes!$B:$B,Fontes!$H:$H)) -> 6169.85 | K20: =IF($A20="M",0,_xlfn.XLOOKUP($D20,Fontes!$B:$B,Fontes!$I:$I)) -> 156.47 | L20: =SUM(I20:K20) -> 7650.3 | M20: =ROUND(H20*L20,2) -> 61202.4 | O20: =IF(D20<>0,M20,"") -> 61202.4
C21: 01.01.07 | D21: 100289 | E21: =UPPER(IF($D21=0,"",IF($A21=4,_xlfn.XLOOKUP($D21,Mercado!$C:$C,Mercado!$E:$E),_xlfn.XLOOKUP($D21,Fontes!$B:$B,Fontes!$C:$C)))) -> SINAPI | F21: VIGIA DIURNO COM ENCARGOS COMPLEMENTARES | G21: =UPPER(IF($D21=0,"",IF($A21=4,_xlfn.XLOOKUP($D21,Mercado!$C:$C,Mercado!$G:$G),_xlfn.XLOOKUP($D21,Fontes!$B:$B,Fontes!$E:$E)))) -> H | H21: =1*220*8 -> 1760 | I21: =IF($A21="M",_xlfn.XLOOKUP($D21,Mercado!$C:$C,Mercado!$I:$I),_xlfn.XLOOKUP($D21,Fontes!$B:$B,Fontes!$J:$J)) -> 7.86 | J21: =IF($A21="M",_xlfn.XLOOKUP($D21,Mercado!$C:$C,Mercado!$J:$J),_xlfn.XLOOKUP($D21,Fontes!$B:$B,Fontes!$H:$H)) -> 24.9 | K21: =IF($A21="M",0,_xlfn.XLOOKUP($D21,Fontes!$B:$B,Fontes!$I:$I)) -> 2.35 | L21: =SUM(I21:K21) -> 35.11 | M21: =ROUND(H21*L21,2) -> 61793.6 | O21: =IF(D21<>0,M21,"") -> 61793.6
C22: 01.01.08 | D22: 94296 | E22: =UPPER(IF($D22=0,"",IF($A22=4,_xlfn.XLOOKUP($D22,Mercado!$C:$C,Mercado!$E:$E),_xlfn.XLOOKUP($D22,Fontes!$B:$B,Fontes!$C:$C)))) -> SINAPI | F22: TOPOGRAFO COM ENCARGOS COMPLEMENTARES | G22: =UPPER(IF($D22=0,"",IF($A22=4,_xlfn.XLOOKUP($D22,Mercado!$C:$C,Mercado!$G:$G),_xlfn.XLOOKUP($D22,Fontes!$B:$B,Fontes!$E:$E)))) -> MES | H22: 3 | I22: =IF($A22="M",_xlfn.XLOOKUP($D22,Mercado!$C:$C,Mercado!$I:$I),_xlfn.XLOOKUP($D22,Fontes!$B:$B,Fontes!$J:$J)) -> 1323.98 | J22: =IF($A22="M",_xlfn.XLOOKUP($D22,Mercado!$C:$C,Mercado!$J:$J),_xlfn.XLOOKUP($D22,Fontes!$B:$B,Fontes!$H:$H)) -> 5042.63 | K22: =IF($A22="M",0,_xlfn.XLOOKUP($D22,Fontes!$B:$B,Fontes!$I:$I)) -> 159.14 | L22: =SUM(I22:K22) -> 6525.75 | M22: =ROUND(H22*L22,2) -> 19577.25 | O22: =IF(D22<>0,M22,"") -> 19577.25
C23: 01.01.09 | D23: 101389 | E23: =UPPER(IF($D23=0,"",IF($A23=4,_xlfn.XLOOKUP($D23,Mercado!$C:$C,Mercado!$E:$E),_xlfn.XLOOKUP($D23,Fontes!$B:$B,Fontes!$C:$C)))) -> SINAPI | F23: AUXILIAR DE TOPÓGRAFO COM ENCARGOS COMPLEMENTARES | G23: =UPPER(IF($D23=0,"",IF($A23=4,_xlfn.XLOOKUP($D23,Mercado!$C:$C,Mercado!$G:$G),_xlfn.XLOOKUP($D23,Fontes!$B:$B,Fontes!$E:$E)))) -> MES | H23: 3 | I23: =IF($A23="M",_xlfn.XLOOKUP($D23,Mercado!$C:$C,Mercado!$I:$I),_xlfn.XLOOKUP($D23,Fontes!$B:$B,Fontes!$J:$J)) -> 1323.98 | J23: =IF($A23="M",_xlfn.XLOOKUP($D23,Mercado!$C:$C,Mercado!$J:$J),_xlfn.XLOOKUP($D23,Fontes!$B:$B,Fontes!$H:$H)) -> 2269.33 | K23: =IF($A23="M",0,_xlfn.XLOOKUP($D23,Fontes!$B:$B,Fontes!$I:$I)) -> 159.14 | L23: =SUM(I23:K23) -> 3752.45 | M23: =ROUND(H23*L23,2) -> 11257.35 | O23: =IF(D23<>0,M23,"") -> 11257.35
E24: =UPPER(IF($D24=0,"",IF($A24=4,_xlfn.XLOOKUP($D24,Mercado!$C:$C,Mercado!$E:$E),_xlfn.XLOOKUP($D24,Fontes!$B:$B,Fontes!$C:$C)))) | I24: =IF($A24="M",_xlfn.XLOOKUP($D24,Mercado!$C:$C,Mercado!$I:$I),_xlfn.XLOOKUP($D24,Fontes!$B:$B,Fontes!$J:$J)) -> 0 | J24: =IF($A24="M",_xlfn.XLOOKUP($D24,Mercado!$C:$C,Mercado!$J:$J),_xlfn.XLOOKUP($D24,Fontes!$B:$B,Fontes!$H:$H)) -> 0 | K24: =IF($A24="M",0,_xlfn.XLOOKUP($D24,Fontes!$B:$B,Fontes!$I:$I)) -> 0 | L24: =SUM(I24:K24) -> 0 | M24: =ROUND(H24*L24,2) -> 0 | O24: =IF(D24<>0,M24,"")
C25: 01.02 | E25: =UPPER(IF($D25=0,"",IF($A25=4,_xlfn.XLOOKUP($D25,Mercado!$C:$C,Mercado!$E:$E),_xlfn.XLOOKUP($D25,Fontes!$B:$B,Fontes!$C:$C)))) | F25: IMPLANTAÇÃO E MANUTENÇÃO DO CANTEIRO DE OBRAS | I25: =IF($A25="M",_xlfn.XLOOKUP($D25,Mercado!$C:$C,Mercado!$I:$I),_xlfn.XLOOKUP($D25,Fontes!$B:$B,Fontes!$J:$J)) -> 0 | J25: =IF($A25="M",_xlfn.XLOOKUP($D25,Mercado!$C:$C,Mercado!$J:$J),_xlfn.XLOOKUP($D25,Fontes!$B:$B,Fontes!$H:$H)) -> 0 | K25: =IF($A25="M",0,_xlfn.XLOOKUP($D25,Fontes!$B:$B,Fontes!$I:$I)) -> 0 | L25: =SUM(I25:K25) -> 0 | M25: =SUBTOTAL(9,M26:M38) -> 149661.6 | O25: =IF(D25<>0,M25,"")
C26: 01.02.01 | D26: 12689 | E26: =UPPER(IF($D26=0,"",IF($A26=4,_xlfn.XLOOKUP($D26,Mercado!$C:$C,Mercado!$E:$E),_xlfn.XLOOKUP($D26,Fontes!$B:$B,Fontes!$C:$C)))) -> SBC | F26: MOBILIZACAO E DESMOBILIZACAO DE CANTEIRO | G26: =UPPER(IF($D26=0,"",IF($A26=4,_xlfn.XLOOKUP($D26,Mercado!$C:$C,Mercado!$G:$G),_xlfn.XLOOKUP($D26,Fontes!$B:$B,Fontes!$E:$E)))) -> UN | H26: 1 | I26: =IF($A26="M",_xlfn.XLOOKUP($D26,Mercado!$C:$C,Mercado!$I:$I),_xlfn.XLOOKUP($D26,Fontes!$B:$B,Fontes!$J:$J)) -> 0 | J26: =IF($A26="M",_xlfn.XLOOKUP($D26,Mercado!$C:$C,Mercado!$J:$J),_xlfn.XLOOKUP($D26,Fontes!$B:$B,Fontes!$H:$H)) -> 6583.72 | K26: =IF($A26="M",0,_xlfn.XLOOKUP($D26,Fontes!$B:$B,Fontes!$I:$I)) -> 0 | L26: =SUM(I26:K26) -> 6583.72 | M26: =ROUND(H26*L26,2) -> 6583.72 | O26: =IF(D26<>0,M26,"") -> 6583.72
C27: 01.02.02 | D27: 12031 | E27: =UPPER(IF($D27=0,"",IF($A27=4,_xlfn.XLOOKUP($D27,Mercado!$C:$C,Mercado!$E:$E),_xlfn.XLOOKUP($D27,Fontes!$B:$B,Fontes!$C:$C)))) -> SBC | F27: INSTALACAO PROVISORIA DE AGUA/LUZ/FORCA/ESGOTOS | G27: =UPPER(IF($D27=0,"",IF($A27=4,_xlfn.XLOOKUP($D27,Mercado!$C:$C,Mercado!$G:$G),_xlfn.XLOOKUP($D27,Fontes!$B:$B,Fontes!$E:$E)))) -> UN | H27: 1 | I27: =IF($A27="M",_xlfn.XLOOKUP($D27,Mercado!$C:$C,Mercado!$I:$I),_xlfn.XLOOKUP($D27,Fontes!$B:$B,Fontes!$J:$J)) -> 7511.87 | J27: =IF($A27="M",_xlfn.XLOOKUP($D27,Mercado!$C:$C,Mercado!$J:$J),_xlfn.XLOOKUP($D27,Fontes!$B:$B,Fontes!$H:$H)) -> 2369.23 | K27: =IF($A27="M",0,_xlfn.XLOOKUP($D27,Fontes!$B:$B,Fontes!$I:$I)) -> 0 | L27: =SUM(I27:K27) -> 9881.1 | M27: =ROUND(H27*L27,2) -> 9881.1 | O27: =IF(D27<>0,M27,"") -> 9881.1
C28: 01.02.03 | D28: 02.02.130 | E28: =UPPER(IF($D28=0,"",IF($A28=4,_xlfn.XLOOKUP($D28,Mercado!$C:$C,Mercado!$E:$E),_xlfn.XLOOKUP($D28,Fontes!$B:$B,Fontes!$C:$C)))) -> CPOS/CDHU | F28: LOCAÇÃO DE CONTAINER TIPO ESCRITÓRIO COM 1 VASO SANITÁRIO, 1 LAVATÓRIO E 1 PONTO PARA CHUVEIRO - ÁREA MÍNIMA DE 13,80 M² | G28: =UPPER(IF($D28=0,"",IF($A28=4,_xlfn.XLOOKUP($D28,Mercado!$C:$C,Mercado!$G:$G),_xlfn.XLOOKUP($D28,Fontes!$B:$B,Fontes!$E:$E)))) -> UNMES | H28: 8 | I28: =IF($A28="M",_xlfn.XLOOKUP($D28,Mercado!$C:$C,Mercado!$I:$I),_xlfn.XLOOKUP($D28,Fontes!$B:$B,Fontes!$J:$J)) -> 1433.13 | J28: =IF($A28="M",_xlfn.XLOOKUP($D28,Mercado!$C:$C,Mercado!$J:$J),_xlfn.XLOOKUP($D28,Fontes!$B:$B,Fontes!$H:$H)) -> 155.52 | K28: =IF($A28="M",0,_xlfn.XLOOKUP($D28,Fontes!$B:$B,Fontes!$I:$I)) -> 0 | L28: =SUM(I28:K28) -> 1588.65 | M28: =ROUND(H28*L28,2) -> 12709.2 | O28: =IF(D28<>0,M28,"") -> 12709.2
C29: 01.02.04 | D29: 02.02.140 | E29: =UPPER(IF($D29=0,"",IF($A29=4,_xlfn.XLOOKUP($D29,Mercado!$C:$C,Mercado!$E:$E),_xlfn.XLOOKUP($D29,Fontes!$B:$B,Fontes!$C:$C)))) -> CPOS/CDHU | F29: LOCAÇÃO DE CONTAINER TIPO SANITÁRIO COM 2 VASOS SANITÁRIOS, 2 LAVATÓRIOS, 2 MICTÓRIOS E 4 PONTOS PARA CHUVEIRO - ÁREA MÍNIMA DE 13,80 M² | G29: =UPPER(IF($D29=0,"",IF($A29=4,_xlfn.XLOOKUP($D29,Mercado!$C:$C,Mercado!$G:$G),_xlfn.XLOOKUP($D29,Fontes!$B:$B,Fontes!$E:$E)))) -> UNMES | H29: 8 | I29: =IF($A29="M",_xlfn.XLOOKUP($D29,Mercado!$C:$C,Mercado!$I:$I),_xlfn.XLOOKUP($D29,Fontes!$B:$B,Fontes!$J:$J)) -> 1376.52 | J29: =IF($A29="M",_xlfn.XLOOKUP($D29,Mercado!$C:$C,Mercado!$J:$J),_xlfn.XLOOKUP($D29,Fontes!$B:$B,Fontes!$H:$H)) -> 155.52 | K29: =IF($A29="M",0,_xlfn.XLOOKUP($D29,Fontes!$B:$B,Fontes!$I:$I)) -> 0 | L29: =SUM(I29:K29) -> 1532.04 | M29: =ROUND(H29*L29,2) -> 12256.32 | O29: =IF(D29<>0,M29,"") -> 12256.32
C30: 01.02.05 | D30: ED-16355 | E30: =UPPER(IF($D30=0,"",IF($A30=4,_xlfn.XLOOKUP($D30,Mercado!$C:$C,Mercado!$E:$E),_xlfn.XLOOKUP($D30,Fontes!$B:$B,Fontes!$C:$C)))) -> SETOP | F30: LOCAÇÃO DE CONTAINER COM ISOLAMENTO TÉRMICO, TIPO 8, PARA VESTIÁRIO DE OBRA COM OITO (8) BANCOS E CINCO (5) ARMÁRIOS, COM MEDIDAS REFERENCIAIS DE (6) METROS COMPRIMENTO, (2,3) METROS LARGURA E (2,5) METROS ALTURA ÚTIL INTERNA, INCLUSIVE LIGAÇÕES ELÉTRICAS INTERNAS, EXCLUSIVE MOBILIZAÇÃO/DESMOBILIZAÇÃO E LIGAÇÕES PROVISÓRIAS EXTERNAS | G30: =UPPER(IF($D30=0,"",IF($A30=4,_xlfn.XLOOKUP($D30,Mercado!$C:$C,Mercado!$G:$G),_xlfn.XLOOKUP($D30,Fontes!$B:$B,Fontes!$E:$E)))) -> MÊS | H30: 8 | I30: =IF($A30="M",_xlfn.XLOOKUP($D30,Mercado!$C:$C,Mercado!$I:$I),_xlfn.XLOOKUP($D30,Fontes!$B:$B,Fontes!$J:$J)) -> 964.37 | J30: =IF($A30="M",_xlfn.XLOOKUP($D30,Mercado!$C:$C,Mercado!$J:$J),_xlfn.XLOOKUP($D30,Fontes!$B:$B,Fontes!$H:$H)) -> 0.77 | K30: =IF($A30="M",0,_xlfn.XLOOKUP($D30,Fontes!$B:$B,Fontes!$I:$I)) -> 0 | L30: =SUM(I30:K30) -> 965.14 | M30: =ROUND(H30*L30,2) -> 7721.12 | O30: =IF(D30<>0,M30,"") -> 7721.12
C31: 01.02.06 | D31: 02.02.150 | E31: =UPPER(IF($D31=0,"",IF($A31=4,_xlfn.XLOOKUP($D31,Mercado!$C:$C,Mercado!$E:$E),_xlfn.XLOOKUP($D31,Fontes!$B:$B,Fontes!$C:$C)))) -> CPOS/CDHU | F31: LOCAÇÃO DE CONTAINER TIPO DEPÓSITO - ÁREA MÍNIMA DE 13,80 M² | G31: =UPPER(IF($D31=0,"",IF($A31=4,_xlfn.XLOOKUP($D31,Mercado!$C:$C,Mercado!$G:$G),_xlfn.XLOOKUP($D31,Fontes!$B:$B,Fontes!$E:$E)))) -> UNMES | H31: 8 | I31: =IF($A31="M",_xlfn.XLOOKUP($D31,Mercado!$C:$C,Mercado!$I:$I),_xlfn.XLOOKUP($D31,Fontes!$B:$B,Fontes!$J:$J)) -> 906.76 | J31: =IF($A31="M",_xlfn.XLOOKUP($D31,Mercado!$C:$C,Mercado!$J:$J),_xlfn.XLOOKUP($D31,Fontes!$B:$B,Fontes!$H:$H)) -> 92.75 | K31: =IF($A31="M",0,_xlfn.XLOOKUP($D31,Fontes!$B:$B,Fontes!$I:$I)) -> 0 | L31: =SUM(I31:K31) -> 999.51 | M31: =ROUND(H31*L31,2) -> 7996.08 | O31: =IF(D31<>0,M31,"") -> 7996.08
C32: 01.02.07 | D32: 02.03.110 | E32: =UPPER(IF($D32=0,"",IF($A32=4,_xlfn.XLOOKUP($D32,Mercado!$C:$C,Mercado!$E:$E),_xlfn.XLOOKUP($D32,Fontes!$B:$B,Fontes!$C:$C)))) -> CPOS/CDHU | F32: TAPUME MÓVEL PARA FECHAMENTO DE ÁREAS | G32: =UPPER(IF($D32=0,"",IF($A32=4,_xlfn.XLOOKUP($D32,Mercado!$C:$C,Mercado!$G:$G),_xlfn.XLOOKUP($D32,Fontes!$B:$B,Fontes!$E:$E)))) -> M² | H32: 40 | I32: =IF($A32="M",_xlfn.XLOOKUP($D32,Mercado!$C:$C,Mercado!$I:$I),_xlfn.XLOOKUP($D32,Fontes!$B:$B,Fontes!$J:$J)) -> 48.89 | J32: =IF($A32="M",_xlfn.XLOOKUP($D32,Mercado!$C:$C,Mercado!$J:$J),_xlfn.XLOOKUP($D32,Fontes!$B:$B,Fontes!$H:$H)) -> 60.57 | K32: =IF($A32="M",0,_xlfn.XLOOKUP($D32,Fontes!$B:$B,Fontes!$I:$I)) -> 0 | L32: =SUM(I32:K32) -> 109.46 | M32: =ROUND(H32*L32,2) -> 4378.4 | O32: =IF(D32<>0,M32,"") -> 4378.4
C33: 01.02.08 | D33: 98459 | E33: =UPPER(IF($D33=0,"",IF($A33=4,_xlfn.XLOOKUP($D33,Mercado!$C:$C,Mercado!$E:$E),_xlfn.XLOOKUP($D33,Fontes!$B:$B,Fontes!$C:$C)))) -> SINAPI | F33: TAPUME COM TELHA METÁLICA. AF_05/2018 | G33: =UPPER(IF($D33=0,"",IF($A33=4,_xlfn.XLOOKUP($D33,Mercado!$C:$C,Mercado!$G:$G),_xlfn.XLOOKUP($D33,Fontes!$B:$B,Fontes!$E:$E)))) -> M² | H33: 350 | I33: =IF($A33="M",_xlfn.XLOOKUP($D33,Mercado!$C:$C,Mercado!$I:$I),_xlfn.XLOOKUP($D33,Fontes!$B:$B,Fontes!$J:$J)) -> 61.99 | J33: =IF($A33="M",_xlfn.XLOOKUP($D33,Mercado!$C:$C,Mercado!$J:$J),_xlfn.XLOOKUP($D33,Fontes!$B:$B,Fontes!$H:$H)) -> 37.32 | K33: =IF($A33="M",0,_xlfn.XLOOKUP($D33,Fontes!$B:$B,Fontes!$I:$I)) -> 2.53 | L33: =SUM(I33:K33) -> 101.84 | M33: =ROUND(H33*L33,2) -> 35644 | O33: =IF(D33<>0,M33,"") -> 35644
C34: 01.02.09 | D34: 93582 | E34: =UPPER(IF($D34=0,"",IF($A34=4,_xlfn.XLOOKUP($D34,Mercado!$C:$C,Mercado!$E:$E),_xlfn.XLOOKUP($D34,Fontes!$B:$B,Fontes!$C:$C)))) -> SINAPI | F34: EXECUÇÃO DE CENTRAL DE ARMADURA EM CANTEIRO DE OBRA, NÃO INCLUSO MOBILIÁRIO E EQUIPAMENTOS. AF_04/2016 | G34: =UPPER(IF($D34=0,"",IF($A34=4,_xlfn.XLOOKUP($D34,Mercado!$C:$C,Mercado!$G:$G),_xlfn.XLOOKUP($D34,Fontes!$B:$B,Fontes!$E:$E)))) -> M² | H34: 50 | I34: =IF($A34="M",_xlfn.XLOOKUP($D34,Mercado!$C:$C,Mercado!$I:$I),_xlfn.XLOOKUP($D34,Fontes!$B:$B,Fontes!$J:$J)) -> 243.47 | J34: =IF($A34="M",_xlfn.XLOOKUP($D34,Mercado!$C:$C,Mercado!$J:$J),_xlfn.XLOOKUP($D34,Fontes!$B:$B,Fontes!$H:$H)) -> 88.85 | K34: =IF($A34="M",0,_xlfn.XLOOKUP($D34,Fontes!$B:$B,Fontes!$I:$I)) -> 7.11 | L34: =SUM(I34:K34) -> 339.43 | M34: =ROUND(H34*L34,2) -> 16971.5 | O34: =IF(D34<>0,M34,"") -> 16971.5
C35: 01.02.10 | D35: 93583 | E35: =UPPER(IF($D35=0,"",IF($A35=4,_xlfn.XLOOKUP($D35,Mercado!$C:$C,Mercado!$E:$E),_xlfn.XLOOKUP($D35,Fontes!$B:$B,Fontes!$C:$C)))) -> SINAPI | F35: EXECUÇÃO DE CENTRAL DE FÔRMAS, PRODUÇÃO DE ARGAMASSA OU CONCRETO EM CANTEIRO DE OBRA, NÃO INCLUSO MOBILIÁRIO E EQUIPAMENTOS. AF_04/2016 | G35: =UPPER(IF($D35=0,"",IF($A35=4,_xlfn.XLOOKUP($D35,Mercado!$C:$C,Mercado!$G:$G),_xlfn.XLOOKUP($D35,Fontes!$B:$B,Fontes!$E:$E)))) -> M² | H35: 50 | I35: =IF($A35="M",_xlfn.XLOOKUP($D35,Mercado!$C:$C,Mercado!$I:$I),_xlfn.XLOOKUP($D35,Fontes!$B:$B,Fontes!$J:$J)) -> 417.49 | J35: =IF($A35="M",_xlfn.XLOOKUP($D35,Mercado!$C:$C,Mercado!$J:$J),_xlfn.XLOOKUP($D35,Fontes!$B:$B,Fontes!$H:$H)) -> 146.9 | K35: =IF($A35="M",0,_xlfn.XLOOKUP($D35,Fontes!$B:$B,Fontes!$I:$I)) -> 12.05 | L35: =SUM(I35:K35) -> 576.44 | M35: =ROUND(H35*L35,2) -> 28822 | O35: =IF(D35<>0,M35,"") -> 28822
C36: 01.02.11 | D36: 12710 | E36: =UPPER(IF($D36=0,"",IF($A36=4,_xlfn.XLOOKUP($D36,Mercado!$C:$C,Mercado!$E:$E),_xlfn.XLOOKUP($D36,Fontes!$B:$B,Fontes!$C:$C)))) -> SBC | F36: DESPESAS GERAIS DE MANUTENCAO CANTEIRO DE OBRAS | G36: =UPPER(IF($D36=0,"",IF($A36=4,_xlfn.XLOOKUP($D36,Mercado!$C:$C,Mercado!$G:$G),_xlfn.XLOOKUP($D36,Fontes!$B:$B,Fontes!$E:$E)))) -> MES | H36: 4 | I36: =IF($A36="M",_xlfn.XLOOKUP($D36,Mercado!$C:$C,Mercado!$I:$I),_xlfn.XLOOKUP($D36,Fontes!$B:$B,Fontes!$J:$J)) -> 1308.24 | J36: =IF($A36="M",_xlfn.XLOOKUP($D36,Mercado!$C:$C,Mercado!$J:$J),_xlfn.XLOOKUP($D36,Fontes!$B:$B,Fontes!$H:$H)) -> 0 | K36: =IF($A36="M",0,_xlfn.XLOOKUP($D36,Fontes!$B:$B,Fontes!$I:$I)) -> 0 | L36: =SUM(I36:K36) -> 1308.24 | M36: =ROUND(H36*L36,2) -> 5232.96 | O36: =IF(D36<>0,M36,"") -> 5232.96
C37: 01.02.12 | D37: 12661 | E37: =UPPER(IF($D37=0,"",IF($A37=4,_xlfn.XLOOKUP($D37,Mercado!$C:$C,Mercado!$E:$E),_xlfn.XLOOKUP($D37,Fontes!$B:$B,Fontes!$C:$C)))) -> SBC | F37: PLACA DE RESP.TECNICA-MADEIRA/CHAPA GALVANIZADA 26(3,0X1,5 M) | G37: =UPPER(IF($D37=0,"",IF($A37=4,_xlfn.XLOOKUP($D37,Mercado!$C:$C,Mercado!$G:$G),_xlfn.XLOOKUP($D37,Fontes!$B:$B,Fontes!$E:$E)))) -> M² | H37: 1 | I37: =IF($A37="M",_xlfn.XLOOKUP($D37,Mercado!$C:$C,Mercado!$I:$I),_xlfn.XLOOKUP($D37,Fontes!$B:$B,Fontes!$J:$J)) -> 383.68 | J37: =IF($A37="M",_xlfn.XLOOKUP($D37,Mercado!$C:$C,Mercado!$J:$J),_xlfn.XLOOKUP($D37,Fontes!$B:$B,Fontes!$H:$H)) -> 1081.52 | K37: =IF($A37="M",0,_xlfn.XLOOKUP($D37,Fontes!$B:$B,Fontes!$I:$I)) -> 0 | L37: =SUM(I37:K37) -> 1465.2 | M37: =ROUND(H37*L37,2) -> 1465.2 | O37: =IF(D37<>0,M37,"") -> 1465.2
A38: M | E38: =UPPER(IF($D38=0,"",IF($A38=4,_xlfn.XLOOKUP($D38,Mercado!$C:$C,Mercado!$E:$E),_xlfn.XLOOKUP($D38,Fontes!$B:$B,Fontes!$C:$C)))) | I38: =IF($A38="M",_xlfn.XLOOKUP($D38,Mercado!$C:$C,Mercado!$I:$I),_xlfn.XLOOKUP($D38,Fontes!$B:$B,Fontes!$J:$J)) -> 0 | J38: =IF($A38="M",_xlfn.XLOOKUP($D38,Mercado!$C:$C,Mercado!$J:$J),_xlfn.XLOOKUP($D38,Fontes!$B:$B,Fontes!$H:$H)) -> 0 | K38: =IF($A38="M",0,_xlfn.XLOOKUP($D38,Fontes!$B:$B,Fontes!$I:$I)) -> 0 | L38: =SUM(I38:K38) -> 0 | M38: =ROUND(H38*L38,2) -> 0 | O38: =IF(D38<>0,M38,"")
C39: 01.03 | E39: =UPPER(IF($D39=0,"",IF($A39=4,_xlfn.XLOOKUP($D39,Mercado!$C:$C,Mercado!$E:$E),_xlfn.XLOOKUP($D39,Fontes!$B:$B,Fontes!$C:$C)))) | F39: MÁQUINAS, EQUIPAMENTOS E VEÍCULOS | I39: =IF($A39="M",_xlfn.XLOOKUP($D39,Mercado!$C:$C,Mercado!$I:$I),_xlfn.XLOOKUP($D39,Fontes!$B:$B,Fontes!$J:$J)) -> 0 | J39: =IF($A39="M",_xlfn.XLOOKUP($D39,Mercado!$C:$C,Mercado!$J:$J),_xlfn.XLOOKUP($D39,Fontes!$B:$B,Fontes!$H:$H)) -> 0 | K39: =IF($A39="M",0,_xlfn.XLOOKUP($D39,Fontes!$B:$B,Fontes!$I:$I)) -> 0 | L39: =SUM(I39:K39) -> 0 | M39: =SUBTOTAL(9,M40:M43) -> 67217.27 | O39: =IF(D39<>0,M39,"")
C40: 01.03.01 | D40: 10527 | E40: =UPPER(IF($D40=0,"",IF($A40=4,_xlfn.XLOOKUP($D40,Mercado!$C:$C,Mercado!$E:$E),_xlfn.XLOOKUP($D40,Fontes!$B:$B,Fontes!$C:$C)))) -> SINAPI | F40: LOCACAO DE ANDAIME METALICO TUBULAR DE ENCAIXE, TIPO DE TORRE, COM LARGURA DE 1 ATE 1,5 M E ALTURA DE *1,00* M (INCLUSO SAPATAS FIXAS OU RODIZIOS) | G40: =UPPER(IF($D40=0,"",IF($A40=4,_xlfn.XLOOKUP($D40,Mercado!$C:$C,Mercado!$G:$G),_xlfn.XLOOKUP($D40,Fontes!$B:$B,Fontes!$E:$E)))) -> MXMES | H40: =10*10*8 -> 800 | I40: =IF($A40="M",_xlfn.XLOOKUP($D40,Mercado!$C:$C,Mercado!$I:$I),_xlfn.XLOOKUP($D40,Fontes!$B:$B,Fontes!$J:$J)) -> 0 | J40: =IF($A40="M",_xlfn.XLOOKUP($D40,Mercado!$C:$C,Mercado!$J:$J),_xlfn.XLOOKUP($D40,Fontes!$B:$B,Fontes!$H:$H)) -> 0 | K40: =IF($A40="M",0,_xlfn.XLOOKUP($D40,Fontes!$B:$B,Fontes!$I:$I)) -> 35 | L40: =SUM(I40:K40) -> 35 | M40: =ROUND(H40*L40,2) -> 28000 | O40: =IF(D40<>0,M40,"") -> 28000
C41: 01.03.02 | D41: 93243 | E41: =UPPER(IF($D41=0,"",IF($A41=4,_xlfn.XLOOKUP($D41,Mercado!$C:$C,Mercado!$E:$E),_xlfn.XLOOKUP($D41,Fontes!$B:$B,Fontes!$C:$C)))) -> SINAPI | F41: EXECUÇÃO DE RESERVATÓRIO ELEVADO DE ÁGUA (2000 LITROS) EM CANTEIRO DE OBRA, APOIADO EM ESTRUTURA DE MADEIRA. AF_02/2016 | G41: =UPPER(IF($D41=0,"",IF($A41=4,_xlfn.XLOOKUP($D41,Mercado!$C:$C,Mercado!$G:$G),_xlfn.XLOOKUP($D41,Fontes!$B:$B,Fontes!$E:$E)))) -> UN | H41: 1 | I41: =IF($A41="M",_xlfn.XLOOKUP($D41,Mercado!$C:$C,Mercado!$I:$I),_xlfn.XLOOKUP($D41,Fontes!$B:$B,Fontes!$J:$J)) -> 9919.78 | J41: =IF($A41="M",_xlfn.XLOOKUP($D41,Mercado!$C:$C,Mercado!$J:$J),_xlfn.XLOOKUP($D41,Fontes!$B:$B,Fontes!$H:$H)) -> 3181.64 | K41: =IF($A41="M",0,_xlfn.XLOOKUP($D41,Fontes!$B:$B,Fontes!$I:$I)) -> 215.85 | L41: =SUM(I41:K41) -> 13317.27 | M41: =ROUND(H41*L41,2) -> 13317.27 | O41: =IF(D41<>0,M41,"") -> 13317.27
C42: 01.03.03 | D42: 210500 | E42: =UPPER(IF($D42=0,"",IF($A42=4,_xlfn.XLOOKUP($D42,Mercado!$C:$C,Mercado!$E:$E),_xlfn.XLOOKUP($D42,Fontes!$B:$B,Fontes!$C:$C)))) -> SBC | F42: ALUGUEL DE CACAMBA 48 HORAS COM RETIRADA | G42: =UPPER(IF($D42=0,"",IF($A42=4,_xlfn.XLOOKUP($D42,Mercado!$C:$C,Mercado!$G:$G),_xlfn.XLOOKUP($D42,Fontes!$B:$B,Fontes!$E:$E)))) -> UN | H42: =3500*0.1/5 -> 70 | I42: =IF($A42="M",_xlfn.XLOOKUP($D42,Mercado!$C:$C,Mercado!$I:$I),_xlfn.XLOOKUP($D42,Fontes!$B:$B,Fontes!$J:$J)) -> 370 | J42: =IF($A42="M",_xlfn.XLOOKUP($D42,Mercado!$C:$C,Mercado!$J:$J),_xlfn.XLOOKUP($D42,Fontes!$B:$B,Fontes!$H:$H)) -> 0 | K42: =IF($A42="M",0,_xlfn.XLOOKUP($D42,Fontes!$B:$B,Fontes!$I:$I)) -> 0 | L42: =SUM(I42:K42) -> 370 | M42: =ROUND(H42*L42,2) -> 25900 | O42: =IF(D42<>0,M42,"") -> 25900
...

Sheet Fontes
D1: Obra | E1: Bancos | H1: B.D.I. | K1: Encargos Sociais
D2: 098 - Litoteka Urca - RJ - R-03 - 2026 | E2: SINAPI - 05/2026 - Rio de Janeiro SBC - 06/2026 - Rio de Janeiro ORSE - 04/2026 - Sergipe SEDOP - 03/2026 - Pará SETOP - 04/2026 - Minas Gerais IOPES - 04/2026 - Espírito Santo SIURB - 01/2026 - São Paulo SUDECAP - 04/2026 - Minas Gerais CPOS/CDHU - 04/2026 - São Paulo FDE - 04/2026 - São Paulo AGETOP CIVIL - 04/2026 - Goiás EMBASA - 06/2025 - Bahia EMOP - 05/2026 - Rio de Janeiro SCO - 06/2026 - Rio de Janeiro | H2: 0,0% | K2: Não Desonerado: 0,00%
A3: Planilha Orçamentária Sintética Com Valor do Material, Mão de Obra e Equipamento
A4: Item | B4: Código | C4: Banco | D4: Descrição | E4: Und | F4: Quant. | G4: Valor Unit | H4: Valor Unit com BDI | L4: Total | P4: Peso (%)
H5: M. O. | I5: EQ. | J5: MAT. | K5: Total | L5: M. O. | M5: EQ. | N5: MAT. | O5: Total
A6: 1 | B6: 93567 | C6: SINAPI | D6: ENGENHEIRO CIVIL DE OBRA PLENO COM ENCARGOS COMPLEMENTARES | E6: MES | F6: 1 | G6: 28769.19 | H6: 27549.86 | I6: 184.85 | J6: 1034.48 | K6: 28769.19 | L6: 27549.86 | M6: 184.85 | N6: 1034.48 | O6: 28769.19 | P6: 0.049477129
A7: 2 | B7: ED-21772 | C7: SETOP | D7: ENGENHEIRO ELETRICISTA/MECÂNICO COM ENCARGOS COMPLEMENTARES | E7: mês | F7: 1 | G7: 24788.99 | H7: 23951.34 | I7: 0 | J7: 837.65 | K7: 24788.99 | L7: 23951.34 | M7: 0 | N7: 837.65 | O7: 24788.99 | P7: 0.042631998
A8: 3 | B8: 101390 | C8: SINAPI | D8: AUXILIAR TÉCNICO / ASSISTENTE DE ENGENHARIA COM ENCARGOS COMPLEMENTARES | E8: MES | F8: 1 | G8: 8554.41 | H8: 7045.58 | I8: 184.85 | J8: 1323.98 | K8: 8554.41 | L8: 7045.58 | M8: 184.85 | N8: 1323.98 | O8: 8554.41 | P8: 0.014711837
A9: 4 | B9: 100534 | C9: SINAPI | D9: TECNICO DE EDIFICACOES COM ENCARGOS COMPLEMENTARES | E9: MES | F9: 1 | G9: 5464.76 | H9: 3984.31 | I9: 156.47 | J9: 1323.98 | K9: 5464.76 | L9: 3984.31 | M9: 156.47 | N9: 1323.98 | O9: 5464.76 | P9: 0.0093982707
A10: 5 | B10: 94295 | C10: SINAPI | D10: MESTRE DE OBRAS COM ENCARGOS COMPLEMENTARES | E10: MES | F10: 1 | G10: 13625.29 | H10: 12031.26 | I10: 270.05 | J10: 1323.98 | K10: 13625.29 | L10: 12031.26 | M10: 270.05 | N10: 1323.98 | O10: 13625.29 | P10: 0.023432715
A11: 6 | B11: 93572 | C11: SINAPI | D11: ENCARREGADO GERAL DE OBRAS COM ENCARGOS COMPLEMENTARES | E11: MES | F11: 1 | G11: 10350.52 | H11: 8756.49 | I11: 270.05 | J11: 1323.98 | K11: 10350.52 | L11: 8756.49 | M11: 270.05 | N11: 1323.98 | O11: 10350.52 | P11: 0.01780078
A12: 7 | B12: 100309 | C12: SINAPI | D12: TÉCNICO EM SEGURANÇA DO TRABALHO COM ENCARGOS COMPLEMENTARES | E12: H | F12: 1 | G12: 57.42 | H12: 48.64 | I12: 0.92 | J12: 7.86 | K12: 57.42 | L12: 48.64 | M12: 0.92 | N12: 7.86 | O12: 57.42 | P12: 9.8750668e-05
A13: 8 | B13: 100534 | C13: SINAPI | D13: TECNICO DE EDIFICACOES COM ENCARGOS COMPLEMENTARES | E13: MES | F13: 1 | G13: 5464.76 | H13: 3984.31 | I13: 156.47 | J13: 1323.98 | K13: 5464.76 | L13: 3984.31 | M13: 156.47 | N13: 1323.98 | O13: 5464.76 | P13: 0.0093982707
A14: 9 | B14: 05.105.0187-0 | C14: EMOP | D14: MAO-DE-OBRA DE COMPRADOR,INCLUSIVE ENCARGOS SOCIAIS | E14: MES | F14: 1 | G14: 5836.16 | H14: 5836.16 | I14: 0 | J14: 0 | K14: 5836.16 | L14: 5836.16 | M14: 0 | N14: 0 | O14: 5836.16 | P14: 0.010037003
A15: 10 | B15: 93566 | C15: SINAPI | D15: AUXILIAR DE ESCRITORIO COM ENCARGOS COMPLEMENTARES | E15: MES | F15: 1 | G15: 6069.85 | H15: 4589.4 | I15: 156.47 | J15: 1323.98 | K15: 6069.85 | L15: 4589.4 | M15: 156.47 | N15: 1323.98 | O15: 6069.85 | P15: 0.010438902
A16: 11 | B16: 93563 | C16: SINAPI | D16: ALMOXARIFE COM ENCARGOS COMPLEMENTARES | E16: MES | F16: 1 | G16: 7650.3 | H16: 6169.85 | I16: 156.47 | J16: 1323.98 | K16: 7650.3 | L16: 6169.85 | M16: 156.47 | N16: 1323.98 | O16: 7650.3 | P16: 0.013156953
A17: 12 | B17: 88326 | C17: SINAPI | D17: VIGIA NOTURNO COM ENCARGOS COMPLEMENTARES | E17: H | F17: 1 | G17: 40.95 | H17: 30.74 | I17: 2.35 | J17: 7.86 | K17: 40.95 | L17: 30.74 | M17: 2.35 | N17: 7.86 | O17: 40.95 | P17: 7.0425633e-05
A18: 13 | B18: 100289 | C18: SINAPI | D18: VIGIA DIURNO COM ENCARGOS COMPLEMENTARES | E18: H | F18: 1 | G18: 35.11 | H18: 24.9 | I18: 2.35 | J18: 7.86 | K18: 35.11 | L18: 24.9 | M18: 2.35 | N18: 7.86 | O18: 35.11 | P18: 6.0382026e-05
A19: 14 | B19: 94296 | C19: SINAPI | D19: TOPOGRAFO COM ENCARGOS COMPLEMENTARES | E19: MES | F19: 1 | G19: 6525.75 | H19: 5042.63 | I19: 159.14 | J19: 1323.98 | K19: 6525.75 | L19: 5042.63 | M19: 159.14 | N19: 1323.98 | O19: 6525.75 | P19: 0.011222957
A20: 15 | B20: 101389 | C20: SINAPI | D20: AUXILIAR DE TOPÓGRAFO COM ENCARGOS COMPLEMENTARES | E20: MES | F20: 1 | G20: 3752.45 | H20: 2269.33 | I20: 159.14 | J20: 1323.98 | K20: 3752.45 | L20: 2269.33 | M20: 159.14 | N20: 1323.98 | O20: 3752.45 | P20: 0.0064534473
A21: 16 | B21: 02.02.130 | C21: CPOS/CDHU | D21: Locação de container tipo escritório com 1 vaso sanitário, 1 lavatório e 1 ponto para chuveiro - área mínima de 13,80 m² | E21: UNMES | F21: 1 | G21: 1588.65 | H21: 155.52 | I21: 0 | J21: 1433.13 | K21: 1588.65 | L21: 155.52 | M21: 0 | N21: 1433.13 | O21: 1588.65 | P21: 0.0027321534
A22: 17 | B22: 02.02.140 | C22: CPOS/CDHU | D22: Locação de container tipo sanitário com 2 vasos sanitários, 2 lavatórios, 2 mictórios e 4 pontos para chuveiro - área mínima de 13,80 m² | E22: UNMES | F22: 1 | G22: 1532.04 | H22: 155.52 | I22: 0 | J22: 1376.52 | K22: 1532.04 | L22: 155.52 | M22: 0 | N22: 1376.52 | O22: 1532.04 | P22: 0.0026347958
A23: 18 | B23: ED-16355 | C23: SETOP | D23: LOCAÇÃO DE CONTAINER COM ISOLAMENTO TÉRMICO, TIPO 8, PARA VESTIÁRIO DE OBRA COM OITO (8) BANCOS E CINCO (5) ARMÁRIOS, COM MEDIDAS REFERENCIAIS DE (6) METROS COMPRIMENTO, (2,3) METROS LARGURA E (2,5) METROS ALTURA ÚTIL INTERNA, INCLUSIVE LIGAÇÕES ELÉTRICAS INTERNAS, EXCLUSIVE MOBILIZAÇÃO/DESMOBILIZAÇÃO E LIGAÇÕES PROVISÓRIAS EXTERNAS | E23: mês | F23: 1 | G23: 965.14 | H23: 0.77 | I23: 0 | J23: 964.37 | K23: 965.14 | L23: 0.77 | M23: 0 | N23: 964.37 | O23: 965.14 | P23: 0.0016598436
A24: 19 | B24: 02.02.150 | C24: CPOS/CDHU | D24: Locação de container tipo depósito - área mínima de 13,80 m² | E24: UNMES | F24: 1 | G24: 999.51 | H24: 92.75 | I24: 0 | J24: 906.76 | K24: 999.51 | L24: 92.75 | M24: 0 | N24: 906.76 | O24: 999.51 | P24: 0.001718953
A25: 20 | B25: 02.02.160 | C25: CPOS/CDHU | D25: Locação de container tipo guarita - área mínima de 4,60 m² | E25: UNMES | F25: 1 | G25: 1017.42 | H25: 30.91 | I25: 0 | J25: 986.51 | K25: 1017.42 | L25: 30.91 | M25: 0 | N25: 986.51 | O25: 1017.42 | P25: 0.0017497545
A26: 21 | B26: 02.03.110 | C26: CPOS/CDHU | D26: Tapume móvel para fechamento de áreas | E26: m² | F26: 1 | G26: 109.46 | H26: 60.57 | I26: 0 | J26: 48.89 | K26: 109.46 | L26: 60.57 | M26: 0 | N26: 48.89 | O26: 109.46 | P26: 0.00018824884
A27: 22 | B27: 98459 | C27: SINAPI | D27: TAPUME COM TELHA METÁLICA. AF_03/2024 | E27: m² | F27: 1 | G27: 101.84 | H27: 37.32 | I27: 2.53 | J27: 61.99 | K27: 101.84 | L27: 37.32 | M27: 2.53 | N27: 61.99 | O27: 101.84 | P27: 0.00017514399
A28: 23 | B28: 93582 | C28: SINAPI | D28: EXECUÇÃO DE CENTRAL DE ARMADURA EM CANTEIRO DE OBRA, NÃO INCLUSO MOBILIÁRIO E EQUIPAMENTOS. AF_04/2016 | E28: m² | F28: 1 | G28: 339.43 | H28: 88.85 | I28: 7.11 | J28: 243.47 | K28: 339.43 | L28: 88.85 | M28: 7.11 | N28: 243.47 | O28: 339.43 | P28: 0.00058375025
A29: 24 | B29: 93583 | C29: SINAPI | D29: EXECUÇÃO DE CENTRAL DE FÔRMAS, PRODUÇÃO DE ARGAMASSA OU CONCRETO EM CANTEIRO DE OBRA, NÃO INCLUSO MOBILIÁRIO E EQUIPAMENTOS. AF_04/2016 | E29: m² | F29: 1 | G29: 576.44 | H29: 146.9 | I29: 12.05 | J29: 417.49 | K29: 576.44 | L29: 146.9 | M29: 12.05 | N29: 417.49 | O29: 576.44 | P29: 0.00099135902
A30: 25 | B30: 10527 | C30: SINAPI | D30: LOCACAO DE ANDAIME METALICO TUBULAR DE ENCAIXE, TIPO DE TORRE, COM LARGURA DE 1 ATE 1,5 M E ALTURA DE *1,00* M (INCLUSO SAPATAS FIXAS OU RODIZIOS) | E30: MXMES | F30: 1 | G30: 35 | H30: 0 | I30: 35 | J30: 0 | K30: 35 | L30: 0 | M30: 35 | N30: 0 | O30: 35 | P30: 6.0192849e-05
A31: 26 | B31: 93243 | C31: SINAPI | D31: EXECUÇÃO DE RESERVATÓRIO ELEVADO DE ÁGUA (2000 LITROS) EM CANTEIRO DE OBRA, APOIADO EM ESTRUTURA DE MADEIRA. AF_02/2016 | E31: UN | F31: 1 | G31: 13317.27 | H31: 3181.64 | I31: 215.85 | J31: 9919.78 | K31: 13317.27 | L31: 3181.64 | M31: 215.85 | N31: 9919.78 | O31: 13317.27 | P31: 0.022902983
A32: 27 | B32: 210500 | C32: SBC | D32: ALUGUEL DE CACAMBA 5m2 48 HORAS COM RETIRADA | E32: UN | F32: 1 | G32: 370 | H32: 0 | I32: 0 | J32: 370 | K32: 370 | L32: 0 | M32: 0 | N32: 370 | O32: 370 | P32: 0.0006363244
A33: 28 | B33: 692 | C33: Próprio | D33: MOBILIARIO PARA ESCRITORIO OBRAS | E33: CJ | F33: 1 | G33: 10244.88 | H33: 0 | I33: 0 | J33: 10244.88 | K33: 10244.88 | L33: 0 | M33: 0 | N33: 10244.88 | O33: 10244.88 | P33: 0.0176191
A34: 29 | B34: 3099 | C34: ORSE | D34: Equipe de topografia para trabalhos exclusivos de campo - Diária incluindo transporte - Rev 04_10/2022 | E34: dia | F34: 1 | G34: 945.34 | H34: 801.73 | I34: 143.6 | J34: 0.01 | K34: 945.34 | L34: 801.73 | M34: 143.6 | N34: 0.01 | O34: 945.34 | P34: 0.0016257917
A35: 30 | B35: 01.050.0715-A | C35: EMOP | D35: MAO-DE-OBRA DE ARQUITETO OU ENGENHEIRO PLENO,PARA SERVICOS D E CONSULTORIA DE ENGENHARIA E ARQUITETURA,INCLUSIVE ENCARGOS SOCIAIS | E35: MES | F35: 1 | G35: 37429.92 | H35: 37429.92 | I35: 0 | J35: 0 | K35: 37429.92 | L35: 37429.92 | M35: 0 | N35: 0 | O35: 37429.92 | P35: 0.064371815
A36: 31 | B36: 05.100.0900-0 | C36: EMOP | D36: UNIDADE REF.P/COMPL.ADM LOCAL,CONSID:CONSUMO AGUA,TEL.ENERGI A ELETR.MAT.LIMPEZA ESCRITORIO,COMPUTADORES LICENCA OBRA,MOV EIS UTENSILIOS,AR COND.BEBEDOURO,ART,RRT,FOTOGRAFIAS,UNIFORM ES,DARIAS,EXAMES ADMISSIONAIS,PERIODICOS E DEMISSIONAIS,CURS OS CAPACITACAO/TREINAMENTO ITENS COMPLEMENTEM DESP.NECESS.EX CL.DESP.C/CAFE MANHA,REFEICAO,CESTA BASICA E VALE TRANSPORTE | E36: UR | F36: 1 | G36: 37.42 | H36: 0 | I36: 0 | J36: 37.42 | K36: 37.42 | L36: 0 | M36: 0 | N36: 37.42 | O36: 37.42 | P36: 6.4354755e-05
A37: 32 | B37: 99059 | C37: SINAPI | D37: LOCAÇÃO CONVENCIONAL DE OBRA, UTILIZANDO GABARITO DE TÁBUAS CORRIDAS PONTALETADAS A CADA 2,00M - 2 UTILIZAÇÕES. AF_03/2024 | E37: M | F37: 1 | G37: 85.37 | H37: 42.26 | I37: 2.94 | J37: 40.17 | K37: 85.37 | L37: 42.26 | M37: 2.94 | N37: 40.17 | O37: 85.37 | P37: 0.00014681896
A38: 33 | B38: 101124 | C38: SINAPI | D38: ESCAVAÇÃO HORIZONTAL, INCLUINDO CARGA E DESCARGA EM SOLO DE 1A CATEGORIA COM TRATOR DE ESTEIRAS (100HP/LÂMINA: 2,19M3). AF_07/2020 | E38: m³ | F38: 1 | G38: 17.78 | H38: 4.29 | I38: 6.85 | J38: 6.64 | K38: 17.78 | L38: 4.29 | M38: 6.85 | N38: 6.64 | O38: 17.78 | P38: 3.0577967e-05
A39: 34 | B39: 96523 | C39: SINAPI | D39: ESCAVAÇÃO MANUAL PARA BLOCO DE COROAMENTO OU SAPATA (INCLUINDO ESCAVAÇÃO PARA COLOCAÇÃO DE FÔRMAS). AF_01/2024 | E39: m³ | F39: 1 | G39: 143.23 | H39: 101.45 | I39: 9.62 | J39: 32.16 | K39: 143.23 | L39: 101.45 | M39: 9.62 | N39: 32.16 | O39: 143.23 | P39: 0.00024632634
A40: 35 | B40: 93382 | C40: SINAPI | D40: REATERRO MANUAL DE VALAS, COM COMPACTADOR DE SOLOS DE PERCUSSÃO. AF_08/2023 | E40: m³ | F40: 1 | G40: 38.03 | H40: 24.64 | I40: 2.98 | J40: 10.41 | K40: 38.03 | L40: 24.64 | M40: 2.98 | N40: 10.41 | O40: 38.03 | P40: 6.540383e-05
...

Sheet Mercado
C1: CUSTOS DE MERCADO - URCA/RJ
C2: CODIGO | D2: FONTE | E2: FORNECEDOR | F2: DESCRIÇÃO | G2: UNID | H2: QTDE | I2: PREÇO UNITÁRIO | J2: MÃO DE OBRA | K2: PREÇO TOTAL | M2: CUSTOS | P2: COTAÇÕES
F3: ARQUITETURA | M3: 1 | N3: 2 | O3: 3
F4: ESTRUTURA PRÉ-MOLDADA | G4: M2 | I4: =+M4 -> 0 | K4: =+H4*I4 -> 0 | P4: =SUM(Q4:S4) -> 0 | Q4: =IF(M4>0,1,0) -> 0 | R4: =IF(N4>0,1,0) -> 0 | S4: =IF(O4>0,1,0) -> 0
C5: M01.01.002 | D5: Proposta | E5: APP PREMOLDADOS | F5: =UPPER(U5) | G5: M3 | H5: 171.36 | I5: 7135.39 | K5: =+H5*I5 -> 1222720.4 | P5: =SUM(Q5:S5) -> 0 | Q5: =IF(M5>0,1,0) -> 0 | R5: =IF(N5>0,1,0) -> 0 | S5: =IF(O5>0,1,0) -> 0
I6: =+M6 -> 0 | K6: =+H6*I6 -> 0 | P6: =SUM(Q6:S6) -> 0 | Q6: =IF(M6>0,1,0) -> 0 | R6: =IF(N6>0,1,0) -> 0 | S6: =IF(O6>0,1,0) -> 0
F7: =UPPER(U7) | G7: M2 | I7: =+M7 -> 0 | K7: =+H7*I7 -> 0 | P7: =SUM(Q7:S7) -> 0 | Q7: =IF(M7>0,1,0) -> 0 | R7: =IF(N7>0,1,0) -> 0 | S7: =IF(O7>0,1,0) -> 0
I8: =+M8 -> 0 | K8: =+H8*I8 -> 0 | P8: =SUM(Q8:S8) -> 0 | Q8: =IF(M8>0,1,0) -> 0 | R8: =IF(N8>0,1,0) -> 0 | S8: =IF(O8>0,1,0) -> 0
C9: M01.02.007A | D9: Proposta | E9: ROLL-ON | F9: MOBILIZAÇÃO, CANTEIRO DE OBRAS E ISOLAMENTOS DAS ÁREAS, INLCUSIVE INSTALAÇÕES PROVISÓRIAS DE POONTGALETES DE MADEIRA, TELA LARANJA DE OBRA, PLACAS PROVISÓRIAS DE IDENTGIFICAÇÃO, ETC. | G9: UN | H9: 1 | I9: 9208.96 | K9: =+H9*I9 -> 9208.96 | P9: =SUM(Q9:S9) -> 0 | Q9: =IF(M9>0,1,0) -> 0 | R9: =IF(N9>0,1,0) -> 0 | S9: =IF(O9>0,1,0) -> 0
C10: M01.02.007B | D10: Proposta | E10: ROLL-ON | F10: LOCAÇÃO DE C0NTAINER ALMOXARIFADO, INLCUSIVE TRANSPORTE DE IDA E VOLTA, INCLUSIVE INSTALAÇÕES | G10: MÊS | H10: 4 | I10: 2464.31 | K10: =+H10*I10 -> 9857.24 | P10: =SUM(Q10:S10) -> 0 | Q10: =IF(M10>0,1,0) -> 0 | R10: =IF(N10>0,1,0) -> 0 | S10: =IF(O10>0,1,0) -> 0
C11: M01.02.007C | D11: Proposta | E11: ROLL-ON | F11: CREA- ART DE EXECUÇÃO | G11: UN | H11: 1 | I11: 464.77 | K11: =+H11*I11 -> 464.77 | P11: =SUM(Q11:S11) -> 0 | Q11: =IF(M11>0,1,0) -> 0 | R11: =IF(N11>0,1,0) -> 0 | S11: =IF(O11>0,1,0) -> 0
C12: M01.02.007D | D12: Proposta | E12: ROLL-ON | F12: PLANO DE EMERGENDIA E SEGURANÇA | G12: UN | H12: 1 | I12: 2558.92 | K12: =+H12*I12 -> 2558.92 | P12: =SUM(Q12:S12) -> 0 | Q12: =IF(M12>0,1,0) -> 0 | R12: =IF(N12>0,1,0) -> 0 | S12: =IF(O12>0,1,0) -> 0
C13: M01.02.007E | D13: Proposta | E13: ROLL-ON | F13: MONTAGEM DE COBERTURA ROLLON, CONFORME PROJETO CONSIDERANDO PRÉ-MONTGAGEM IN LOCO, SEM FORNECIMENTO DE MATERIAL | G13: M2 | H13: 1159.2 | I13: 152.15 | K13: =+H13*I13 -> 176372.28 | P13: =SUM(Q13:S13) -> 0 | Q13: =IF(M13>0,1,0) -> 0 | R13: =IF(N13>0,1,0) -> 0 | S13: =IF(O13>0,1,0) -> 0
C14: M01.02.007F | D14: Proposta | E14: ROLL-ON | F14: MONTAGEM DE ESTRUTURA AUXILIAR PARA FIXAÇÃO DOS PAINÉIS TERMOACÚSTICOS, INCLUINDO MUNK, CONFORME PROJETO, SEM FORNECIMETNO DE MATERIAL | G14: M2 | H14: 2147.06 | I14: 90.15 | K14: =+H14*I14 -> 193557.46 | P14: =SUM(Q14:S14) -> 0 | Q14: =IF(M14>0,1,0) -> 0 | R14: =IF(N14>0,1,0) -> 0 | S14: =IF(O14>0,1,0) -> 0
C15: M01.02.007G | D15: Proposta | E15: ROLL-ON | F15: MONTAGEM DE FECHAMENTO LATERAL COM TELHAS TERMOACÚSTICAS E ACESSÓRIOS DE FIXAÇÃO, INCLUIDO MUNK, SEM FORNECIMETNO DE MATERIAL | G15: M2 | H15: 2150 | I15: 152.15 | K15: =+H15*I15 -> 327122.5 | P15: =SUM(Q15:S15) -> 0 | Q15: =IF(M15>0,1,0) -> 0 | R15: =IF(N15>0,1,0) -> 0 | S15: =IF(O15>0,1,0) -> 0
C17: M01.02.008 | D17: Proposta | E17: PERFILOR | F17: FORNECIMENTO DO FECHAMENTO LATERAL EM PAINÉIS TERMILOR WALL,CONFORME PROJETO b-027, + 10% ACESSÓRIOS E ACABAMENTO | G17: M2 | H17: 2150 | I17: =159.54*1.1 -> 175.494 | K17: =+H17*I17 -> 377312.1 | P17: =SUM(Q17:S17) -> 0 | Q17: =IF(M17>0,1,0) -> 0 | R17: =IF(N17>0,1,0) -> 0 | S17: =IF(O17>0,1,0) -> 0
C18: M01.02.008 | D18: Proposta | E18: PERFILOR | F18: FRETE TRANSPORTE PAINEIS | G18: M2 | H18: 2 | I18: 4500 | K18: =+H18*I18 -> 9000 | P18: =SUM(Q18:S18) -> 0 | Q18: =IF(M18>0,1,0) -> 0 | R18: =IF(N18>0,1,0) -> 0 | S18: =IF(O18>0,1,0) -> 0
F19: Roll-on, VU, Calha, Passarela, Estrutura de fechamento | I19: =+AG19 -> 0 | K19: =SUM(K20:K33) -> 775256.42 | P19: =SUM(Q19:S19) -> 0 | Q19: =IF(M19>0,1,0) -> 0 | R19: =IF(N19>0,1,0) -> 0 | S19: =IF(O19>0,1,0) -> 0
C20: M01.02.009 | D20: Proposta | E20: MARKO | F20: ROLL-ON RO 150 KS | G20: M2 | H20: 1064.7 | I20: 352.56 | K20: =+H20*I20 -> 375370.63 | P20: =SUM(Q20:S20) -> 0 | Q20: =IF(M20>0,1,0) -> 0 | R20: =IF(N20>0,1,0) -> 0 | S20: =IF(O20>0,1,0) -> 0
C21: M01.02.010 | D21: Proposta | E21: MARKO | F21: ROLL-ON RO 150 SS | G21: M2 | H21: 94.5 | I21: 399.04 | K21: =+H21*I21 -> 37709.28 | P21: =SUM(Q21:S21) -> 0 | Q21: =IF(M21>0,1,0) -> 0 | R21: =IF(N21>0,1,0) -> 0 | S21: =IF(O21>0,1,0) -> 0
C22: M01.02.011 | D22: Proposta | E22: MARKO | F22: CALHA INTERNA MK | G22: M | H22: 36.8 | I22: 113.58 | K22: =+H22*I22 -> 4179.744 | P22: =SUM(Q22:S22) -> 0 | Q22: =IF(M22>0,1,0) -> 0 | R22: =IF(N22>0,1,0) -> 0 | S22: =IF(O22>0,1,0) -> 0
C23: M01.02.012 | D23: Proposta | E23: MARKO | F23: TYLON MK 1.4 - ILUMINAÇÃO | G23: M | H23: 83.85 | I23: 258.27 | K23: =+H23*I23 -> 21655.939 | P23: =SUM(Q23:S23) -> 0 | Q23: =IF(M23>0,1,0) -> 0 | R23: =IF(N23>0,1,0) -> 0 | S23: =IF(O23>0,1,0) -> 0
C24: M01.02.013 | D24: Proposta | E24: MARKO | F24: TYLON MK 1.4 - VENTILADOR | G24: M | H24: 4.5 | I24: 258.27 | K24: =+H24*I24 -> 1162.215 | P24: =SUM(Q24:S24) -> 0 | Q24: =IF(M24>0,1,0) -> 0 | R24: =IF(N24>0,1,0) -> 0 | S24: =IF(O24>0,1,0) -> 0
C25: M01.02.014 | D25: Proposta | E25: MARKO | F25: ESTRUTURA ILUM. ZENITAL | G25: M | H25: 19.2 | I25: 181.87 | K25: =+H25*I25 -> 3491.904 | P25: =SUM(Q25:S25) -> 0 | Q25: =IF(M25>0,1,0) -> 0 | R25: =IF(N25>0,1,0) -> 0 | S25: =IF(O25>0,1,0) -> 0
C26: M01.02.015 | D26: Proposta | E26: MARKO | F26: ESTR. VENT. NATURAL C/ TYLON | G26: M | H26: 14.4 | I26: 1232.16 | K26: =+H26*I26 -> 17743.104 | P26: =SUM(Q26:S26) -> 0 | Q26: =IF(M26>0,1,0) -> 0 | R26: =IF(N26>0,1,0) -> 0 | S26: =IF(O26>0,1,0) -> 0
C27: M01.02.016 | D27: Proposta | E27: MARKO | F27: VU 90 S | G27: M | H27: 73.6 | I27: 812.46 | K27: =+H27*I27 -> 59797.056 | P27: =SUM(Q27:S27) -> 0 | Q27: =IF(M27>0,1,0) -> 0 | R27: =IF(N27>0,1,0) -> 0 | S27: =IF(O27>0,1,0) -> 0
C28: M01.02.017 | D28: Proposta | E28: MARKO | F28: TRELIÇA CONTENÇÃO LATERAL | G28: M | H28: 61.2 | I28: 526.15 | K28: =+H28*I28 -> 32200.38 | P28: =SUM(Q28:S28) -> 0 | Q28: =IF(M28>0,1,0) -> 0 | R28: =IF(N28>0,1,0) -> 0 | S28: =IF(O28>0,1,0) -> 0
C29: M01.02.018 | D29: Proposta | E29: MARKO | F29: ESTRUTURA AUXILIAR DE FECH. | G29: M2 | H29: 2147.06 | I29: 94.27 | K29: =+H29*I29 -> 202403.35 | P29: =SUM(Q29:S29) -> 0 | Q29: =IF(M29>0,1,0) -> 0 | R29: =IF(N29>0,1,0) -> 0 | S29: =IF(O29>0,1,0) -> 0
C30: M01.02.019 | D30: Proposta | E30: MARKO | F30: PASSARELA PADRÃO ROLL-ON | G30: M | H30: 41.6 | I30: 140.24 | K30: =+H30*I30 -> 5833.984 | P30: =SUM(Q30:S30) -> 0 | Q30: =IF(M30>0,1,0) -> 0 | R30: =IF(N30>0,1,0) -> 0 | S30: =IF(O30>0,1,0) -> 0
C31: M01.02.020 | D31: Proposta | E31: MARKO | F31: ESTRUTURA DE LINHA DE VIDA | G31: M | H31: 41.6 | I31: 36.27 | K31: =+H31*I31 -> 1508.832 | P31: =SUM(Q31:S31) -> 0 | Q31: =IF(M31>0,1,0) -> 0 | R31: =IF(N31>0,1,0) -> 0 | S31: =IF(O31>0,1,0) -> 0
... C33: M01.02.022 | D33: Proposta | E33: MARKO | F33: ILUM. - POLICARB. PRISMÁTICO | G33: M | H33: 19.2 | I33: 375 | K33: =+H33*I33 -> 7200 | P33: =SUM(Q33:S33) -> 0 | Q33: =IF(M33>0,1,0) -> 0 | R33: =IF(N33>0,1,0) -> 0 | S33: =IF(O33>0,1,0) -> 0
K34: =+H34*I34 -> 0 | P34: =SUM(Q34:S34) -> 0 | Q34: =IF(M34>0,1,0) -> 0 | R34: =IF(N34>0,1,0) -> 0 | S34: =IF(O34>0,1,0) -> 0
F35: PAINEÍS ESPECIAIS EM AÇO INOX | I35: =+M35 -> 0 | K35: =+H35*I35 -> 0 | P35: =SUM(Q35:S35) -> 0 | Q35: =IF(M35>0,1,0) -> 0 | R35: =IF(N35>0,1,0) -> 0 | S35: =IF(O35>0,1,0) -> 0
C36: M01.04.014 | D36: Proposta | E36: PSA | F36: CPM.01.A - PAINEL EM CHAPA METÁLICA PERFURADA REDONDA EM AÇO INOX 304 - PERFURAÇÃO R8,00 EC11,00. ACABAMENTO EM PINTURA ELETROSTÁTICA COR RAL 7042 BRILHANTE. SUBESTRUTURA EM PERFIS DE AÇO INOX 304 E ACESSÓRIOS PARA FIXAÇÃO PINTADOS NA MESMA COR, PARAFUSOS SEM PINTURA.1,738x5,286m2 | G36: M2 | H36: 9.18 | I36: 1203.76 | J36: 350 | K36: =+(I36+J36)*H36 -> 14263.517 | P36: =SUM(Q36:S36) -> 0 | Q36: =IF(M36>0,1,0) -> 0 | R36: =IF(N36>0,1,0) -> 0 | S36: =IF(O36>0,1,0) -> 0
C37: M01.04.015 | D37: Proposta | E37: PSA | F37: CPM.01.B - PAINEL EM CHAPA METÁLICA PERFURADA REDONDA EM AÇO INOX 304 - PERFURAÇÃO R8,00 EC11,00. ACABAMENTO EM PINTURA ELETROSTÁTICA COR RAL 7042 BRILHANTE. SUBESTRUTURA EM PERFIS DE AÇO INOX 304 E ACESSÓRIOS PARA FIXAÇÃO PINTADOS NA MESMA COR, PARAFUSOS SEM PINTURA.24,08 - 5,286m2 | G37: M2 | H37: 109.44 | I37: 1203.76 | J37: 350 | K37: =+(I37+J37)*H37 -> 170043.49 | P37: =SUM(Q37:S37) -> 0 | Q37: =IF(M37>0,1,0) -> 0 | R37: =IF(N37>0,1,0) -> 0 | S37: =IF(O37>0,1,0) -> 0
C38: M01.04.016 | D38: Proposta | E38: PSA | F38: CPM.01.B' - PAINEL EM CHAPA METÁLICA PERFURADA REDONDA EM AÇO INOX 304 - PERFURAÇÃO R8,00 EC11,00. ACABAMENTO EM PINTURA ELETROSTÁTICA COR RAL 7042 BRILHANTE. SUBESTRUTURA EM PERFIS DE AÇO INOX 304 E ACESSÓRIOS PARA FIXAÇÃO PINTADOS NA MESMA COR, PARAFUSOS SEM PINTURA.0,249 - 5,286m2 | G38: M2 | H38: 1.11 | I38: 1203.76 | J38: 350 | K38: =+(I38+J38)*H38 -> 1724.6736 | P38: =SUM(Q38:S38) -> 0 | Q38: =IF(M38>0,1,0) -> 0 | R38: =IF(N38>0,1,0) -> 0 | S38: =IF(O38>0,1,0) -> 0
C39: M01.04.017 | D39: Proposta | E39: PSA | F39: CPM.02.A - PAINEL EM CHAPA METÁLICA PERFURADA REDONDA EM AÇO INOX 304 - PERFURAÇÃO R8,00 EC11,00. ACABAMENTO EM PINTURA ELETROSTÁTICA COR RAL 7042 BRILHANTE. SUBESTRUTURA EM PERFIS DE AÇO INOX 304 E ACESSÓRIOS PARA FIXAÇÃO PINTADOS NA MESMA COR, PARAFUSOS SEM PINTURA.24,999 - 5,286m2 | G39: M2 | H39: 124.42 | I39: 1203.76 | J39: 350 | K39: =+(I39+J39)*H39 -> 193318.82 | P39: =SUM(Q39:S39) -> 0 | Q39: =IF(M39>0,1,0) -> 0 | R39: =IF(N39>0,1,0) -> 0 | S39: =IF(O39>0,1,0) -> 0
C40: M01.04.018 | D40: Proposta | E40: PSA | F40: CPM.02.A" - PAINEL EM CHAPA METÁLICA PERFURADA REDONDA EM AÇO INOX 304 - PERFURAÇÃO R8,00 EC11,00. ACABAMENTO EM PINTURA ELETROSTÁTICA COR RAL 7042 BRILHANTE. SUBESTRUTURA EM PERFIS DE AÇO INOX 304 E ACESSÓRIOS PARA FIXAÇÃO PINTADOS NA MESMA COR, PARAFUSOS SEM PINTURA.0,17 - 5,286m2 | G40: M2 | H40: 0.94 | I40: 1203.76 | J40: 350 | K40: =+(I40+J40)*H40 -> 1460.5344 | P40: =SUM(Q40:S40) -> 0 | Q40: =IF(M40>0,1,0) -> 0 | R40: =IF(N40>0,1,0) -> 0 | S40: =IF(O40>0,1,0) -> 0
C41: M01.04.019 | D41: Proposta | E41: PSA | F41: CPM.02.A' - PAINEL EM CHAPA METÁLICA PERFURADA REDONDA EM AÇO INOX 304 - PERFURAÇÃO R8,00 EC11,00. ACABAMENTO EM PINTURA ELETROSTÁTICA COR RAL 7042 BRILHANTE. SUBESTRUTURA EM PERFIS DE AÇO INOX 304 E ACESSÓRIOS PARA FIXAÇÃO PINTADOS NA MESMA COR, PARAFUSOS SEM PINTURA.0,248 - 5,286m2 | G41: M2 | H41: 1.11 | I41: 1203.76 | J41: 350 | K41: =+(I41+J41)*H41 -> 1724.6736 | P41: =SUM(Q41:S41) -> 0 | Q41: =IF(M41>0,1,0) -> 0 | R41: =IF(N41>0,1,0) -> 0 | S41: =IF(O41>0,1,0) -> 0
C42: M01.04.020 | D42: Proposta | E42: PSA | F42: CPM.02.B - PAINEL EM CHAPA METÁLICA PERFURADA REDONDA EM AÇO INOX 304 - PERFURAÇÃO R8,00 EC11,00. ACABAMENTO EM PINTURA ELETROSTÁTICA COR RAL 7042 BRILHANTE. SUBESTRUTURA EM PERFIS DE AÇO INOX 304 E ACESSÓRIOS PARA FIXAÇÃO PINTADOS NA MESMA COR, PARAFUSOS SEM PINTURA.5,186 - 5,286m2 | G42: M2 | H42: 25.76 | I42: 1203.76 | J42: 350 | K42: =+(I42+J42)*H42 -> 40024.858 | P42: =SUM(Q42:S42) -> 0 | Q42: =IF(M42>0,1,0) -> 0 | R42: =IF(N42>0,1,0) -> 0 | S42: =IF(O42>0,1,0) -> 0
...

Sheet Insumos
C1: Obra | D1: Bancos | E1: B.D.I. | H1: Encargos Sociais
C2: 098 - Litoteka Urca - RJ - R-03 - 2026 | D2: SINAPI - 05/2026 - Rio de Janeiro SBC - 06/2026 - Rio de Janeiro ORSE - 04/2026 - Sergipe SEDOP - 03/2026 - Pará SETOP - 04/2026 - Minas Gerais IOPES - 04/2026 - Espírito Santo SIURB - 01/2026 - São Paulo SUDECAP - 04/2026 - Minas Gerais CPOS/CDHU - 04/2026 - São Paulo FDE - 04/2026 - São Paulo AGETOP CIVIL - 04/2026 - Goiás EMBASA - 06/2025 - Bahia EMOP - 05/2026 - Rio de Janeiro SCO - 06/2026 - Rio de Janeiro | E2: 0,0% | H2: Não Desonerado: 0,00%
A3: Curva ABC de Insumos
A4: Código | B4: Banco | C4: Descrição | D4: Tipo | E4: Und | F4: Quantidade | H4: Valor Unitário | J4: Total | M4: Peso | N4: Valor Acumulado | O4: Peso Acumulado
F5: Operativa | G5: Improdutiva | H5: Operativa | I5: Improdutiva | J5: Operativa | K5: Improdutiva | L5: Geral
A6: A.08.000.020137 | B6: CPOS/CDHU | C6: Taxa de mobilização e desmobilização de equipamentos para execução de estaca tipo hélice contínua em solo | D6: Material | E6: TX | F6: 1,0000000 | H6: 43.853,17 | J6: 43.853,17 | L6: 43853.17 | M6: 7,54% | N6: 43853.17 | O6: 7,54%
A7: 20018 | B7: EMOP | C7: MAO DE OBRA DE ARQUITETO OU ENGENHEIRO P LENO-PROJETO E CONSULTORIA, INCLUSIVE EN CARGOS SOCIAIS DESONERADOS | D7: Mão de Obra | E7: H | F7: 176,0000000 | H7: 212,67 | J7: 37.429,92 | L7: 37429.92 | M7: 6,44% | N7: 81283.09 | O7: 13,98%
A8: 036707 | B8: SBC | C8: MODULO DE CONTROLE CENTRAL CS-NET WEB (CSNET WEB) HITACHI | D8: Material | E8: UN | F8: 1,0000000 | H8: 31.250,00 | J8: 31.250,00 | L8: 31250 | M8: 5,37% | N8: 112533.09 | O8: 19,35%
A9: 00040813 | B9: SINAPI | C9: ENGENHEIRO CIVIL DE OBRA PLENO (MENSALISTA) | D9: Mão de Obra | E9: MES | F9: 1,0000000 | H9: 27.549,86 | J9: 27.549,86 | L9: 27549.86 | M9: 4,74% | N9: 140082.95 | O9: 24,09%
A10: MOED-21737 | B10: SETOP | C10: ENGENHEIRO ELETRICISTA/MECÂNICO (MODALIDADE: MENSALISTA|ENCARGOS SOCIAIS: INCLUSO) | D10: Mão de Obra | E10: H | F10: 1,0000000 | H10: 23.951,34 | J10: 23.951,34 | L10: 23951.34 | M10: 4,12% | N10: 164034.29 | O10: 28,21%
A11: TWBH48 | B11: Próprio | C11: COMPRESSOR SCHULZ BRAVO CSLV 60BR/350 15CV TRIFASICO 220V | D11: Equipamento para Aquisição Permanente | E11: UN | F11: 1,0000000 | H11: 21.576,40 | J11: 21.576,40 | L11: 21576.4 | M11: 3,71% | N11: 185610.69 | O11: 31,92%
A12: TWBH19 | B12: Próprio | C12: DISPOSITIVO SUPRESSOR DE SURTO DPS CLASSE 2 40 KA, 350V, 1,4 KV | D12: Material | E12: UN | F12: 9,0000000 | H12: 1.403,99 | J12: 12.635,91 | L12: 12635.91 | M12: 2,17% | N12: 198246.6 | O12: 34,09%
A13: 00040819 | B13: SINAPI | C13: MESTRE DE OBRAS (MENSALISTA) | D13: Mão de Obra | E13: MES | F13: 1,0000000 | H13: 12.031,26 | J13: 12.031,26 | L13: 12031.26 | M13: 2,07% | N13: 210277.86 | O13: 36,16%
A14: TWBG57 | B14: Próprio | C14: NOBREAK APC SMC3000XLI-BR SMART-UPS 3,0 KVA (3000VA) 220V - T.E.-127V-1F+T - T.S.-127V-1F+T | D14: Material | E14: UN | F14: 1,0000000 | H14: 9.040,70 | J14: 9.040,70 | L14: 9040.7 | M14: 1,55% | N14: 219318.56 | O14: 37,72%
A15: 00040818 | B15: SINAPI | C15: ENCARREGADO GERAL DE OBRAS (MENSALISTA) | D15: Mão de Obra | E15: MES | F15: 1,0000000 | H15: 8.756,49 | J15: 8.756,49 | L15: 8756.49 | M15: 1,51% | N15: 228075.05 | O15: 39,22%
A16: 00040862 | B16: SINAPI | C16: ALIMENTACAO - MENSALISTA (COLETADO CAIXA - ENCARGOS COMPLEMENTARES) | D16: Encargos Complementares | E16: MES | F16: 10,0000000 | H16: 806,06 | J16: 8.060,60 | L16: 8060.6 | M16: 1,39% | N16: 236135.65 | O16: 40,61%
A17: 00040946 | B17: SINAPI | C17: TECNICO DE EDIFICACOES (MENSALISTA) | D17: Mão de Obra | E17: MES | F17: 2,0000000 | H17: 3.984,31 | J17: 7.968,62 | L17: 7968.62 | M17: 1,37% | N17: 244104.27 | O17: 41,98%
... A1251: EVE000050 | B1251: SCO | C1251: 3% incidente sobre mao de obra direta com Encargos Sociais para cobrir despesas relativa a equipamentos de protecao individual, uniformes e ferramentas | D1251: Outros | E1251: % | F1251: 1,0000000 | H1251: 0,03 | J1251: 0,03 | L1251: 0.03 | M1251: 0,00% | N1251: 581174.78 | O1251: 99,95%
A1252: EQED-8483 | B1252: SETOP | C1252: BETONEIRA (TIPO: ELÉTRICA|CAPACIDADE NOMINAL: 400L| CAPACIDADE DE MISTURA : 310L|MOTOR ELÉTRICO: TRIFÁSICO|POTÊNCIA: 2CV|CONSUMO: 1,5KWH| CARREGADOR MECÂNICO: NÃO INCLUSO) | D1252: Equipamento | E1252: H | F1252: 0,0110000 | G1252: 0,0000000 | H1252: 2,57 | J1252: 0,03 | L1252: 0.02827 | M1252: 0,00% | N1252: 581174.81 | O1252: 99,95%
A1253: 10593 | B1253: ORSE | C1253: Praio simples 30cm | D1253: Material | E1253: un | F1253: 0,0011600 | H1253: 19,57 | J1253: 0,02 | L1253: 0.0227012 | M1253: 0,00% | N1253: 581174.83 | O1253: 99,95%
A1254: 00020247 | B1254: SINAPI | C1254: PREGO DE ACO POLIDO COM CABECA 15 X 15 (1 1/4 X 13) | D1254: Material | E1254: KG | F1254: 0,0009908 | H1254: 20,27 | J1254: 0,02 | L1254: 0.020083516 | M1254: 0,00% | N1254: 581174.85 | O1254: 99,95%
A1255: 10578 | B1255: ORSE | C1255: Formão grande | D1255: Material | E1255: un | F1255: 0,0007932 | H1255: 23,90 | J1255: 0,02 | L1255: 0.01895748 | M1255: 0,00% | N1255: 581174.87 | O1255: 99,95%
A1256: 00010742 | B1256: SINAPI | C1256: TALHA MANUAL DE CORRENTE, CAPACIDADE DE 2 T COM ELEVACAO DE 3 M | D1256: Equipamento para Aquisição Permanente | E1256: UN | F1256: 0,0000154 | H1256: 1.157,69 | J1256: 0,02 | L1256: 0.017828426 | M1256: 0,00% | N1256: 581174.89 | O1256: 99,95%
A1257: 10577 | B1257: ORSE | C1257: Serrote 40cm | D1257: Material | E1257: un | F1257: 0,0003966 | H1257: 36,00 | J1257: 0,01 | L1257: 0.0142776 | M1257: 0,00% | N1257: 581174.9 | O1257: 99,95%
A1258: 00038415 | B1258: SINAPI | C1258: TERMOFUSORA PARA TUBOS E CONEXOES EM PPR COM DIAMETROS DE 20 A 63 MM, POTENCIA DE 800 W, TENSAO 220 V | D1258: Equipamento para Aquisição Permanente | E1258: UN | F1258: 0,0000234 | H1258: 608,07 | J1258: 0,01 | L1258: 0.014228838 | M1258: 0,00% | N1258: 581174.92 | O1258: 99,95%
A1259: MATED-14619 | B1259: SETOP | C1259: FERRAMENTAS PARA FAMÍLIA CARPINTEIRO DE FORMAS - HORISTA (ENCARGOS COMPLEMENTARES) | D1259: Material | E1259: hora | F1259: 0,0333334 | H1259: 0,34 | J1259: 0,01 | L1259: 0.011333356 | M1259: 0,00% | N1259: 581174.93 | O1259: 99,95%
A1260: 4725 | B1260: ORSE | C1260: Espátula | D1260: Material | E1260: un | F1260: 0,0006400 | H1260: 16,82 | J1260: 0,01 | L1260: 0.0107648 | M1260: 0,00% | N1260: 581174.94 | O1260: 99,95%
A1261: 10586 | B1261: ORSE | C1261: Torquesa | D1261: Material | E1261: un | F1261: 0,0002450 | H1261: 39,00 | J1261: 0,01 | L1261: 0.009555 | M1261: 0,00% | N1261: 581174.95 | O1261: 99,95%
A1262: 00043617 | B1262: SINAPI | C1262: ADITIVO PLASTIFICANTE E ESTABILIZADOR PARA ARGAMASSAS DE ASSENTAMENTO E REBOCO, LIQUIDO E ISENTO DE CLORETOS | D1262: Material | E1262: L | F1262: 0,0007560 | H1262: 7,49 | J1262: 0,01 | L1262: 0.00566244 | M1262: 0,00% | N1262: 581174.95 | O1262: 99,95%
A1263: 10585 | B1263: ORSE | C1263: Arco de serra | D1263: Material | E1263: un | F1263: 0,0002450 | H1263: 19,95 | J1263: 0,00 | L1263: 0.00488775 | M1263: 0,00% | N1263: 581174.96 | O1263: 99,95%
A1264: 00013887 | B1264: SINAPI | C1264: DISCO DE CORTE DIAMANTADO SEGMENTADO PARA CONCRETO, DIAMETRO DE 350 MM, FURO DE 1 " (14 X 1 ") | D1264: Equipamento | E1264: UN | F1264: 0,0000158 | H1264: 304,38 | J1264: 0,00 | L1264: 0.004809204 | M1264: 0,00% | N1264: 581174.96 | O1264: 99,95%
... A1269: 00043462 | B1269: SINAPI | C1269: FERRAMENTAS - FAMILIA ENGENHEIRO CIVIL - HORISTA (ENCARGOS COMPLEMENTARES - COLETADO CAIXA) | D1269: Equipamento | E1269: H | F1269: 0,0002000 | H1269: 0,02 | J1269: 0,00 | L1269: 4e-06 | M1269: 0,00% | N1269: 581174.97 | O1269: 99,95%
A1270: TWBE69 | B1270: Próprio | C1270: BORRACHA ELASTOMÉRICA - ESP: 9MM 1.1/4" (9X42) | D1270: Equipamento | E1270: pç | F1270: 1,0000000 | G1270: 0,0000000 | H1270: 0,00 | I1270: 0,00 | J1270: 0,00 | K1270: 0,00 | L1270: 0 | M1270: 0,00% | N1270: 581174.97 | O1270: 99,95%
